BEGIN:VCALENDAR
VERSION:2.0
PRODID:-//Back Country Horsemen of Montana - ECPv6.15.20//NONSGML v1.0//EN
CALSCALE:GREGORIAN
METHOD:PUBLISH
X-WR-CALNAME:Back Country Horsemen of Montana
X-ORIGINAL-URL:https://bchmt.org/wp
X-WR-CALDESC:Events for Back Country Horsemen of Montana
REFRESH-INTERVAL;VALUE=DURATION:PT1H
X-Robots-Tag:noindex
X-PUBLISHED-TTL:PT1H
BEGIN:VTIMEZONE
TZID:America/Denver
BEGIN:DAYLIGHT
TZOFFSETFROM:-0700
TZOFFSETTO:-0600
TZNAME:MDT
DTSTART:20220313T090000
END:DAYLIGHT
BEGIN:STANDARD
TZOFFSETFROM:-0600
TZOFFSETTO:-0700
TZNAME:MST
DTSTART:20221106T080000
END:STANDARD
BEGIN:DAYLIGHT
TZOFFSETFROM:-0700
TZOFFSETTO:-0600
TZNAME:MDT
DTSTART:20230312T090000
END:DAYLIGHT
BEGIN:STANDARD
TZOFFSETFROM:-0600
TZOFFSETTO:-0700
TZNAME:MST
DTSTART:20231105T080000
END:STANDARD
BEGIN:DAYLIGHT
TZOFFSETFROM:-0700
TZOFFSETTO:-0600
TZNAME:MDT
DTSTART:20240310T090000
END:DAYLIGHT
BEGIN:STANDARD
TZOFFSETFROM:-0600
TZOFFSETTO:-0700
TZNAME:MST
DTSTART:20241103T080000
END:STANDARD
END:VTIMEZONE
BEGIN:VEVENT
DTSTART;TZID=America/Denver:20231216T100000
DTEND;TZID=America/Denver:20231216T150000
DTSTAMP:20260423T233119
CREATED:20221103T225406Z
LAST-MODIFIED:20231117T194545Z
UID:1687-1702720800-1702738800@bchmt.org
SUMMARY:December 2023 Board Meeting
DESCRIPTION:December 2023 BCHMT Board Meeting\nWi-Fi will be available at the meeting location in the conference room at 1101 South Ave W\, Missoula\, MT 59801 Floriculture building at the Missoula County fairgrounds. The Board meeting will be followed at 6:30PM by the Missoula BCH chapter Christmas Party. Other chapter members are invited to attend.
URL:https://bchmt.org/wp/event/bchmt-december-2023-board-meeting/
LOCATION:Missoula\, 1075 South Avenue West\, Missoula\, MT\, 59801\, United States
CATEGORIES:Board Meeting
END:VEVENT
END:VCALENDAR