BEGIN:VCALENDAR
VERSION:2.0
PRODID:-//Back Country Horsemen of Montana - ECPv6.15.20//NONSGML v1.0//EN
CALSCALE:GREGORIAN
METHOD:PUBLISH
X-WR-CALNAME:Back Country Horsemen of Montana
X-ORIGINAL-URL:https://bchmt.org/wp
X-WR-CALDESC:Events for Back Country Horsemen of Montana
REFRESH-INTERVAL;VALUE=DURATION:PT1H
X-Robots-Tag:noindex
X-PUBLISHED-TTL:PT1H
BEGIN:VTIMEZONE
TZID:America/Denver
BEGIN:DAYLIGHT
TZOFFSETFROM:-0700
TZOFFSETTO:-0600
TZNAME:MDT
DTSTART:20230312T090000
END:DAYLIGHT
BEGIN:STANDARD
TZOFFSETFROM:-0600
TZOFFSETTO:-0700
TZNAME:MST
DTSTART:20231105T080000
END:STANDARD
BEGIN:DAYLIGHT
TZOFFSETFROM:-0700
TZOFFSETTO:-0600
TZNAME:MDT
DTSTART:20240310T090000
END:DAYLIGHT
BEGIN:STANDARD
TZOFFSETFROM:-0600
TZOFFSETTO:-0700
TZNAME:MST
DTSTART:20241103T080000
END:STANDARD
BEGIN:DAYLIGHT
TZOFFSETFROM:-0700
TZOFFSETTO:-0600
TZNAME:MDT
DTSTART:20250309T090000
END:DAYLIGHT
BEGIN:STANDARD
TZOFFSETFROM:-0600
TZOFFSETTO:-0700
TZNAME:MST
DTSTART:20251102T080000
END:STANDARD
END:VTIMEZONE
BEGIN:VEVENT
DTSTART;TZID=America/Denver:20240520T080000
DTEND;TZID=America/Denver:20240628T170000
DTSTAMP:20260422T080127
CREATED:20240204T001613Z
LAST-MODIFIED:20240204T001613Z
UID:2109-1716192000-1719594000@bchmt.org
SUMMARY:Wilderness Policy and Packing
DESCRIPTION:Wilderness Policy and Packing course at the University of Montana. \nINSTRUCTOR INFORMATION \n\nEva-Maria Maggi\, PhD\, Department of Political Science LA 411\neva.maggi@umontana.edu
URL:https://bchmt.org/wp/event/wilderness-policy-and-packing-2/
LOCATION:University of Montana\, Political Science Liberal Arts 301 32 Campus Drive\, Missoula\, MT\, 59812\, United States
CATEGORIES:Education
END:VEVENT
END:VCALENDAR