BEGIN:VCALENDAR
VERSION:2.0
PRODID:-//Gallatin Valley Back Country Horsemen - ECPv6.15.20//NONSGML v1.0//EN
CALSCALE:GREGORIAN
METHOD:PUBLISH
X-ORIGINAL-URL:https://bchmt.org/wp/gvbch
X-WR-CALDESC:Events for Gallatin Valley Back Country Horsemen
REFRESH-INTERVAL;VALUE=DURATION:PT1H
X-Robots-Tag:noindex
X-PUBLISHED-TTL:PT1H
BEGIN:VTIMEZONE
TZID:America/Denver
BEGIN:DAYLIGHT
TZOFFSETFROM:-0700
TZOFFSETTO:-0600
TZNAME:MDT
DTSTART:20250309T090000
END:DAYLIGHT
BEGIN:STANDARD
TZOFFSETFROM:-0600
TZOFFSETTO:-0700
TZNAME:MST
DTSTART:20251102T080000
END:STANDARD
BEGIN:DAYLIGHT
TZOFFSETFROM:-0700
TZOFFSETTO:-0600
TZNAME:MDT
DTSTART:20260308T090000
END:DAYLIGHT
BEGIN:STANDARD
TZOFFSETFROM:-0600
TZOFFSETTO:-0700
TZNAME:MST
DTSTART:20261101T080000
END:STANDARD
BEGIN:DAYLIGHT
TZOFFSETFROM:-0700
TZOFFSETTO:-0600
TZNAME:MDT
DTSTART:20270314T090000
END:DAYLIGHT
BEGIN:STANDARD
TZOFFSETFROM:-0600
TZOFFSETTO:-0700
TZNAME:MST
DTSTART:20271107T080000
END:STANDARD
END:VTIMEZONE
BEGIN:VEVENT
DTSTART;TZID=America/Denver:20260520T090000
DTEND;TZID=America/Denver:20260520T170000
DTSTAMP:20260424T113621
CREATED:20260117T233711Z
LAST-MODIFIED:20260117T233711Z
UID:1260-1779267600-1779296400@bchmt.org
SUMMARY:Wednesday Trail Crew
DESCRIPTION:
URL:https://bchmt.org/wp/gvbch/event/wednesday-trail-crew-41/
CATEGORIES:Trail Maintenance
END:VEVENT
BEGIN:VEVENT
DTSTART;TZID=America/Denver:20260523T090000
DTEND;TZID=America/Denver:20260523T170000
DTSTAMP:20260424T113621
CREATED:20260117T234929Z
LAST-MODIFIED:20260117T234929Z
UID:1305-1779526800-1779555600@bchmt.org
SUMMARY:Saturday Trail Crew
DESCRIPTION:
URL:https://bchmt.org/wp/gvbch/event/saturday-trail-crew-22/
CATEGORIES:Trail Maintenance
END:VEVENT
BEGIN:VEVENT
DTSTART;TZID=America/Denver:20260527T090000
DTEND;TZID=America/Denver:20260527T170000
DTSTAMP:20260424T113621
CREATED:20260117T233712Z
LAST-MODIFIED:20260117T233712Z
UID:1261-1779872400-1779901200@bchmt.org
SUMMARY:Wednesday Trail Crew
DESCRIPTION:
URL:https://bchmt.org/wp/gvbch/event/wednesday-trail-crew-42/
CATEGORIES:Trail Maintenance
END:VEVENT
BEGIN:VEVENT
DTSTART;TZID=America/Denver:20260530T090000
DTEND;TZID=America/Denver:20260530T170000
DTSTAMP:20260424T113621
CREATED:20260117T234929Z
LAST-MODIFIED:20260117T234929Z
UID:1306-1780131600-1780160400@bchmt.org
SUMMARY:Saturday Trail Crew
DESCRIPTION:
URL:https://bchmt.org/wp/gvbch/event/saturday-trail-crew-23/
CATEGORIES:Trail Maintenance
END:VEVENT
BEGIN:VEVENT
DTSTART;TZID=America/Denver:20260603T090000
DTEND;TZID=America/Denver:20260603T170000
DTSTAMP:20260424T113621
CREATED:20260117T233713Z
LAST-MODIFIED:20260117T233713Z
UID:1262-1780477200-1780506000@bchmt.org
SUMMARY:Wednesday Trail Crew
DESCRIPTION:
URL:https://bchmt.org/wp/gvbch/event/wednesday-trail-crew-43/
CATEGORIES:Trail Maintenance
END:VEVENT
BEGIN:VEVENT
DTSTART;TZID=America/Denver:20260606T090000
DTEND;TZID=America/Denver:20260606T170000
DTSTAMP:20260424T113621
CREATED:20260117T234930Z
LAST-MODIFIED:20260117T234930Z
UID:1307-1780736400-1780765200@bchmt.org
SUMMARY:National Trails Day
DESCRIPTION:
URL:https://bchmt.org/wp/gvbch/event/national-trails-day-2/
CATEGORIES:Trail Maintenance
END:VEVENT
BEGIN:VEVENT
DTSTART;TZID=America/Denver:20260610T090000
DTEND;TZID=America/Denver:20260610T170000
DTSTAMP:20260424T113621
CREATED:20260117T233713Z
LAST-MODIFIED:20260117T233713Z
UID:1263-1781082000-1781110800@bchmt.org
SUMMARY:Wednesday Trail Crew
DESCRIPTION:
URL:https://bchmt.org/wp/gvbch/event/wednesday-trail-crew-44/
CATEGORIES:Trail Maintenance
END:VEVENT
BEGIN:VEVENT
DTSTART;TZID=America/Denver:20260613T090000
DTEND;TZID=America/Denver:20260613T170000
DTSTAMP:20260424T113621
CREATED:20260117T234930Z
LAST-MODIFIED:20260117T234930Z
UID:1308-1781341200-1781370000@bchmt.org
SUMMARY:Saturday Trail Crew
DESCRIPTION:
URL:https://bchmt.org/wp/gvbch/event/saturday-trail-crew-24/
CATEGORIES:Trail Maintenance
END:VEVENT
BEGIN:VEVENT
DTSTART;TZID=America/Denver:20260617T090000
DTEND;TZID=America/Denver:20260617T170000
DTSTAMP:20260424T113621
CREATED:20260117T233714Z
LAST-MODIFIED:20260117T233714Z
UID:1264-1781686800-1781715600@bchmt.org
SUMMARY:Wednesday Trail Crew
DESCRIPTION:
URL:https://bchmt.org/wp/gvbch/event/wednesday-trail-crew-45/
CATEGORIES:Trail Maintenance
END:VEVENT
BEGIN:VEVENT
DTSTART;TZID=America/Denver:20260620T090000
DTEND;TZID=America/Denver:20260620T170000
DTSTAMP:20260424T113621
CREATED:20260117T234939Z
LAST-MODIFIED:20260117T234939Z
UID:1309-1781946000-1781974800@bchmt.org
SUMMARY:Saturday Trail Crew
DESCRIPTION:
URL:https://bchmt.org/wp/gvbch/event/saturday-trail-crew-25/
CATEGORIES:Trail Maintenance
END:VEVENT
BEGIN:VEVENT
DTSTART;TZID=America/Denver:20260624T090000
DTEND;TZID=America/Denver:20260624T170000
DTSTAMP:20260424T113621
CREATED:20260117T233716Z
LAST-MODIFIED:20260117T233718Z
UID:1265-1782291600-1782320400@bchmt.org
SUMMARY:Wednesday Trail Crew
DESCRIPTION:
URL:https://bchmt.org/wp/gvbch/event/wednesday-trail-crew-46/
CATEGORIES:Trail Maintenance
END:VEVENT
BEGIN:VEVENT
DTSTART;TZID=America/Denver:20260627T090000
DTEND;TZID=America/Denver:20260627T170000
DTSTAMP:20260424T113621
CREATED:20260117T234940Z
LAST-MODIFIED:20260117T234940Z
UID:1310-1782550800-1782579600@bchmt.org
SUMMARY:Saturday Trail Crew
DESCRIPTION:
URL:https://bchmt.org/wp/gvbch/event/saturday-trail-crew-26/
CATEGORIES:Trail Maintenance
END:VEVENT
BEGIN:VEVENT
DTSTART;TZID=America/Denver:20260701T090000
DTEND;TZID=America/Denver:20260701T170000
DTSTAMP:20260424T113621
CREATED:20260117T233717Z
LAST-MODIFIED:20260117T233719Z
UID:1266-1782896400-1782925200@bchmt.org
SUMMARY:Wednesday Trail Crew
DESCRIPTION:
URL:https://bchmt.org/wp/gvbch/event/wednesday-trail-crew-47/
CATEGORIES:Trail Maintenance
END:VEVENT
BEGIN:VEVENT
DTSTART;TZID=America/Denver:20260704T090000
DTEND;TZID=America/Denver:20260704T170000
DTSTAMP:20260424T113621
CREATED:20260117T234940Z
LAST-MODIFIED:20260117T234940Z
UID:1311-1783155600-1783184400@bchmt.org
SUMMARY:Saturday Trail Crew
DESCRIPTION:
URL:https://bchmt.org/wp/gvbch/event/saturday-trail-crew-27/
CATEGORIES:Trail Maintenance
END:VEVENT
BEGIN:VEVENT
DTSTART;TZID=America/Denver:20260708T090000
DTEND;TZID=America/Denver:20260708T170000
DTSTAMP:20260424T113621
CREATED:20260117T233717Z
LAST-MODIFIED:20260117T233719Z
UID:1267-1783501200-1783530000@bchmt.org
SUMMARY:Wednesday Trail Crew
DESCRIPTION:
URL:https://bchmt.org/wp/gvbch/event/wednesday-trail-crew-48/
CATEGORIES:Trail Maintenance
END:VEVENT
BEGIN:VEVENT
DTSTART;TZID=America/Denver:20260715T090000
DTEND;TZID=America/Denver:20260715T170000
DTSTAMP:20260424T113621
CREATED:20260117T233717Z
LAST-MODIFIED:20260117T233719Z
UID:1268-1784106000-1784134800@bchmt.org
SUMMARY:Wednesday Trail Crew
DESCRIPTION:
URL:https://bchmt.org/wp/gvbch/event/wednesday-trail-crew-49/
CATEGORIES:Trail Maintenance
END:VEVENT
BEGIN:VEVENT
DTSTART;TZID=America/Denver:20260718T090000
DTEND;TZID=America/Denver:20260718T170000
DTSTAMP:20260424T113621
CREATED:20260117T234940Z
LAST-MODIFIED:20260117T234940Z
UID:1312-1784365200-1784394000@bchmt.org
SUMMARY:Saturday Trail Crew
DESCRIPTION:
URL:https://bchmt.org/wp/gvbch/event/saturday-trail-crew-28/
CATEGORIES:Trail Maintenance
END:VEVENT
BEGIN:VEVENT
DTSTART;TZID=America/Denver:20260722T090000
DTEND;TZID=America/Denver:20260722T170000
DTSTAMP:20260424T113621
CREATED:20260117T233718Z
LAST-MODIFIED:20260117T233720Z
UID:1269-1784710800-1784739600@bchmt.org
SUMMARY:Wednesday Trail Crew
DESCRIPTION:
URL:https://bchmt.org/wp/gvbch/event/wednesday-trail-crew-50/
CATEGORIES:Trail Maintenance
END:VEVENT
BEGIN:VEVENT
DTSTART;TZID=America/Denver:20260725T090000
DTEND;TZID=America/Denver:20260725T170000
DTSTAMP:20260424T113621
CREATED:20260117T234941Z
LAST-MODIFIED:20260117T234941Z
UID:1313-1784970000-1784998800@bchmt.org
SUMMARY:Saturday Trail Crew
DESCRIPTION:
URL:https://bchmt.org/wp/gvbch/event/saturday-trail-crew-29/
CATEGORIES:Trail Maintenance
END:VEVENT
BEGIN:VEVENT
DTSTART;TZID=America/Denver:20260729T090000
DTEND;TZID=America/Denver:20260729T170000
DTSTAMP:20260424T113621
CREATED:20260117T233732Z
LAST-MODIFIED:20260117T233734Z
UID:1275-1785315600-1785344400@bchmt.org
SUMMARY:Wednesday Trail Crew
DESCRIPTION:
URL:https://bchmt.org/wp/gvbch/event/wednesday-trail-crew-51/
CATEGORIES:Trail Maintenance
END:VEVENT
BEGIN:VEVENT
DTSTART;TZID=America/Denver:20260801T090000
DTEND;TZID=America/Denver:20260801T170000
DTSTAMP:20260424T113621
CREATED:20260117T234949Z
LAST-MODIFIED:20260117T234949Z
UID:1314-1785574800-1785603600@bchmt.org
SUMMARY:Saturday Trail Crew
DESCRIPTION:
URL:https://bchmt.org/wp/gvbch/event/saturday-trail-crew-30/
CATEGORIES:Trail Maintenance
END:VEVENT
BEGIN:VEVENT
DTSTART;TZID=America/Denver:20260805T090000
DTEND;TZID=America/Denver:20260805T170000
DTSTAMP:20260424T113621
CREATED:20260117T233732Z
LAST-MODIFIED:20260117T233734Z
UID:1276-1785920400-1785949200@bchmt.org
SUMMARY:Wednesday Trail Crew
DESCRIPTION:
URL:https://bchmt.org/wp/gvbch/event/wednesday-trail-crew-52/
CATEGORIES:Trail Maintenance
END:VEVENT
BEGIN:VEVENT
DTSTART;TZID=America/Denver:20260808T090000
DTEND;TZID=America/Denver:20260808T170000
DTSTAMP:20260424T113621
CREATED:20260117T234949Z
LAST-MODIFIED:20260117T234949Z
UID:1315-1786179600-1786208400@bchmt.org
SUMMARY:Saturday Trail Crew
DESCRIPTION:
URL:https://bchmt.org/wp/gvbch/event/saturday-trail-crew-31/
CATEGORIES:Trail Maintenance
END:VEVENT
BEGIN:VEVENT
DTSTART;TZID=America/Denver:20260812T090000
DTEND;TZID=America/Denver:20260812T170000
DTSTAMP:20260424T113621
CREATED:20260117T233733Z
LAST-MODIFIED:20260117T233735Z
UID:1277-1786525200-1786554000@bchmt.org
SUMMARY:Wednesday Trail Crew
DESCRIPTION:
URL:https://bchmt.org/wp/gvbch/event/wednesday-trail-crew-53/
CATEGORIES:Trail Maintenance
END:VEVENT
BEGIN:VEVENT
DTSTART;TZID=America/Denver:20260815T090000
DTEND;TZID=America/Denver:20260815T170000
DTSTAMP:20260424T113621
CREATED:20260117T234950Z
LAST-MODIFIED:20260117T234950Z
UID:1316-1786784400-1786813200@bchmt.org
SUMMARY:Saturday Trail Crew
DESCRIPTION:
URL:https://bchmt.org/wp/gvbch/event/saturday-trail-crew-32/
CATEGORIES:Trail Maintenance
END:VEVENT
BEGIN:VEVENT
DTSTART;TZID=America/Denver:20260819T090000
DTEND;TZID=America/Denver:20260819T170000
DTSTAMP:20260424T113621
CREATED:20260117T233733Z
LAST-MODIFIED:20260117T233735Z
UID:1278-1787130000-1787158800@bchmt.org
SUMMARY:Wednesday Trail Crew
DESCRIPTION:
URL:https://bchmt.org/wp/gvbch/event/wednesday-trail-crew-54/
CATEGORIES:Trail Maintenance
END:VEVENT
BEGIN:VEVENT
DTSTART;TZID=America/Denver:20260822T090000
DTEND;TZID=America/Denver:20260822T170000
DTSTAMP:20260424T113621
CREATED:20260117T234950Z
LAST-MODIFIED:20260117T234950Z
UID:1317-1787389200-1787418000@bchmt.org
SUMMARY:Saturday Trail Crew
DESCRIPTION:
URL:https://bchmt.org/wp/gvbch/event/saturday-trail-crew-33/
CATEGORIES:Trail Maintenance
END:VEVENT
BEGIN:VEVENT
DTSTART;TZID=America/Denver:20260826T090000
DTEND;TZID=America/Denver:20260826T170000
DTSTAMP:20260424T113621
CREATED:20260117T233733Z
LAST-MODIFIED:20260117T233735Z
UID:1279-1787734800-1787763600@bchmt.org
SUMMARY:Wednesday Trail Crew
DESCRIPTION:
URL:https://bchmt.org/wp/gvbch/event/wednesday-trail-crew-55/
CATEGORIES:Trail Maintenance
END:VEVENT
BEGIN:VEVENT
DTSTART;TZID=America/Denver:20260829T090000
DTEND;TZID=America/Denver:20260829T170000
DTSTAMP:20260424T113621
CREATED:20260117T234950Z
LAST-MODIFIED:20260117T234950Z
UID:1318-1787994000-1788022800@bchmt.org
SUMMARY:Saturday Trail Crew
DESCRIPTION:
URL:https://bchmt.org/wp/gvbch/event/saturday-trail-crew-34/
CATEGORIES:Trail Maintenance
END:VEVENT
BEGIN:VEVENT
DTSTART;TZID=America/Denver:20260902T090000
DTEND;TZID=America/Denver:20260902T170000
DTSTAMP:20260424T113621
CREATED:20260117T233744Z
LAST-MODIFIED:20260117T233744Z
UID:1285-1788339600-1788368400@bchmt.org
SUMMARY:Wednesday Trail Crew
DESCRIPTION:
URL:https://bchmt.org/wp/gvbch/event/wednesday-trail-crew-56/
CATEGORIES:Trail Maintenance
END:VEVENT
END:VCALENDAR