BEGIN:VCALENDAR
VERSION:2.0
PRODID:-//Judith Basin Back Country Horsemen - ECPv6.15.20//NONSGML v1.0//EN
CALSCALE:GREGORIAN
METHOD:PUBLISH
X-WR-CALNAME:Judith Basin Back Country Horsemen
X-ORIGINAL-URL:https://bchmt.org/wp/judith
X-WR-CALDESC:Events for Judith Basin Back Country Horsemen
REFRESH-INTERVAL;VALUE=DURATION:PT1H
X-Robots-Tag:noindex
X-PUBLISHED-TTL:PT1H
BEGIN:VTIMEZONE
TZID:UTC
BEGIN:STANDARD
TZOFFSETFROM:+0000
TZOFFSETTO:+0000
TZNAME:UTC
DTSTART:20230101T000000
END:STANDARD
END:VTIMEZONE
BEGIN:VEVENT
DTSTART;TZID=UTC:20240727T160000
DTEND;TZID=UTC:20240728T210000
DTSTAMP:20260426T031702
CREATED:20240507T210150Z
LAST-MODIFIED:20240507T210150Z
UID:355-1722096000-1722200400@bchmt.org
SUMMARY:Central Montana Fair-- Rodeo Gates
DESCRIPTION:The JBBCH will be working the Rodeo gates at the Central Montana Fair. There will be a sign up sheet for shifts.
URL:https://bchmt.org/wp/judith/event/central-montana-fair-rodeo-gates/
LOCATION:Central Montana Fair\, Lewistown\, MT\, 59457\, United States
END:VEVENT
END:VCALENDAR