BEGIN:VCALENDAR
VERSION:2.0
PRODID:-//Judith Basin Back Country Horsemen - ECPv6.15.20//NONSGML v1.0//EN
CALSCALE:GREGORIAN
METHOD:PUBLISH
X-ORIGINAL-URL:https://bchmt.org/wp/judith
X-WR-CALDESC:Events for Judith Basin Back Country Horsemen
REFRESH-INTERVAL;VALUE=DURATION:PT1H
X-Robots-Tag:noindex
X-PUBLISHED-TTL:PT1H
BEGIN:VTIMEZONE
TZID:UTC
BEGIN:STANDARD
TZOFFSETFROM:+0000
TZOFFSETTO:+0000
TZNAME:UTC
DTSTART:20230101T000000
END:STANDARD
END:VTIMEZONE
BEGIN:VEVENT
DTSTART;TZID=UTC:20241202T180000
DTEND;TZID=UTC:20241202T200000
DTSTAMP:20260425T200000
CREATED:20241019T135925Z
LAST-MODIFIED:20241108T221052Z
UID:386-1733162400-1733169600@bchmt.org
SUMMARY:December 2\, 2024 -- 6:00 PM Christmas Party Potluck
DESCRIPTION:December 2\, 2024 6:00 pm Lutheran Church\, 604 West Evelyn Street\, Lewistown MT. Potluck with a full kitchen at our disposal at the Church again this year. Bring a gift to exchange during our party for our traditional and fun  “steal” gift exchange.
URL:https://bchmt.org/wp/judith/event/december-2-2024-christmas-party-potluck/
END:VEVENT
END:VCALENDAR