BEGIN:VCALENDAR
VERSION:2.0
PRODID:-//Judith Basin Back Country Horsemen - ECPv6.15.20//NONSGML v1.0//EN
CALSCALE:GREGORIAN
METHOD:PUBLISH
X-WR-CALNAME:Judith Basin Back Country Horsemen
X-ORIGINAL-URL:https://bchmt.org/wp/judith
X-WR-CALDESC:Events for Judith Basin Back Country Horsemen
REFRESH-INTERVAL;VALUE=DURATION:PT1H
X-Robots-Tag:noindex
X-PUBLISHED-TTL:PT1H
BEGIN:VTIMEZONE
TZID:UTC
BEGIN:STANDARD
TZOFFSETFROM:+0000
TZOFFSETTO:+0000
TZNAME:UTC
DTSTART:20240101T000000
END:STANDARD
END:VTIMEZONE
BEGIN:VEVENT
DTSTART;TZID=UTC:20250204T183000
DTEND;TZID=UTC:20250204T200000
DTSTAMP:20260425T163526
CREATED:20250202T175737Z
LAST-MODIFIED:20250202T175737Z
UID:406-1738693800-1738699200@bchmt.org
SUMMARY:JBBCH Monthly Meeting 6:30 Education\, 7:00 Membership Meeting
DESCRIPTION:We meet in the Sherif’s complex conference room\, downstairs. Our Educational component will consist of learning about the Highline and how to Highline stock safely. Presented by Sue George. Our membership meeting will follow.
URL:https://bchmt.org/wp/judith/event/jbbch-monthly-meeting-630-education-700-membership-meeting/
END:VEVENT
END:VCALENDAR