BEGIN:VCALENDAR
VERSION:2.0
PRODID:-//Judith Basin Back Country Horsemen - ECPv6.15.20//NONSGML v1.0//EN
CALSCALE:GREGORIAN
METHOD:PUBLISH
X-WR-CALNAME:Judith Basin Back Country Horsemen
X-ORIGINAL-URL:https://bchmt.org/wp/judith
X-WR-CALDESC:Events for Judith Basin Back Country Horsemen
REFRESH-INTERVAL;VALUE=DURATION:PT1H
X-Robots-Tag:noindex
X-PUBLISHED-TTL:PT1H
BEGIN:VTIMEZONE
TZID:UTC
BEGIN:STANDARD
TZOFFSETFROM:+0000
TZOFFSETTO:+0000
TZNAME:UTC
DTSTART:20240101T000000
END:STANDARD
END:VTIMEZONE
BEGIN:VEVENT
DTSTART;TZID=UTC:20250303T183000
DTEND;TZID=UTC:20250303T200000
DTSTAMP:20260425T151148
CREATED:20250202T180142Z
LAST-MODIFIED:20250304T153616Z
UID:408-1741026600-1741032000@bchmt.org
SUMMARY:JBBCH Monthly Meeting 6:30 Presentation by Weston Hersel\, 7:00 Members Meeting
DESCRIPTION:We meet in the sherif’s complex\, Lewistown\, downstairs. Our 2024 JBBCH Scholarship winner\, Weston Hersel will present on his educational experience in the Agricultural Industry. The press are invited. The Scholarship application for 2025 will be available soon. Contact Judy Fossum at 406 380-0075 for an application. The application will also be posted on this website soon!
URL:https://bchmt.org/wp/judith/event/jbbch-monthly-meeting-630-presentation-by-weston-hersel-700-members-meeting/
END:VEVENT
END:VCALENDAR