BEGIN:VCALENDAR
VERSION:2.0
PRODID:-//Judith Basin Back Country Horsemen - ECPv6.15.20//NONSGML v1.0//EN
CALSCALE:GREGORIAN
METHOD:PUBLISH
X-WR-CALNAME:Judith Basin Back Country Horsemen
X-ORIGINAL-URL:https://bchmt.org/wp/judith
X-WR-CALDESC:Events for Judith Basin Back Country Horsemen
REFRESH-INTERVAL;VALUE=DURATION:PT1H
X-Robots-Tag:noindex
X-PUBLISHED-TTL:PT1H
BEGIN:VTIMEZONE
TZID:UTC
BEGIN:STANDARD
TZOFFSETFROM:+0000
TZOFFSETTO:+0000
TZNAME:UTC
DTSTART:20240101T000000
END:STANDARD
END:VTIMEZONE
BEGIN:VEVENT
DTSTART;TZID=UTC:20250304T080000
DTEND;TZID=UTC:20250501T170000
DTSTAMP:20260425T163847
CREATED:20250304T151326Z
LAST-MODIFIED:20250304T151326Z
UID:422-1741075200-1746118800@bchmt.org
SUMMARY:2025 JBBCH Scholarship is NOW AVAILABLE
DESCRIPTION:Judith Basin Back Country Horsemen (JBBCH) was founded in 2000 and is part of the national organization whose roots go back to Montana’s Flathead Valley. The principal goal of the organization is to protect access to public lands for recreational use by horses and mules. The group works at the local\, state\, and national levels with land managers\, lawmakers and other user groups to preserve the horsemen’s rights to recreational use of stock on public lands. \nOther services provided by the JBBCH include assisting private and public agencies in trail maintenance and management\, assisting other clubs and organizations with a variety of community service projects and organizing rides.  \nThe JBBCH is offering one $500 scholarship to an individual who resides within Fergus County or Judith Basin\, age 16-25\, who is pursuing college or training resulting in certification or degree\, in the agricultural field. The “agricultural field” refers to the practice of cultivating crops and raising livestock on land\, encompassing multiple activities like planting seeds\, tending to crops\, managing livestock\, harvesting produce\, and managing soil health\, essentially any activity related to producing food and other agricultural products on a farm or ranch. This includes but is not limited to educational experiences which are equine related\, forestry related\, or ranching industries. \nWith questions please contact Judy Fossum\, JBBCH Scholarship Committee Chair 406 380-0075 or jvfossum@gmail.com \nFollow this link for the 2025 JBBCH Scholarship Application and Instructions. \nhttps://1drv.ms/w/c/86deb1105c054c88/EYDyGmodM6RKk4bwhlJKvmwBfUoB8jY0_6Qrr_gnRMkwUg
URL:https://bchmt.org/wp/judith/event/2025-jbbch-scholarship-is-now-available/
ORGANIZER;CN="judy fossum":MAILTO:jvfossum@gmail.com
END:VEVENT
BEGIN:VEVENT
DTSTART;TZID=UTC:20250407T183000
DTEND;TZID=UTC:20250407T203000
DTSTAMP:20260425T163847
CREATED:20250304T145947Z
LAST-MODIFIED:20250304T153532Z
UID:420-1744050600-1744057800@bchmt.org
SUMMARY:JBBCH Monthly Membership Meeting
DESCRIPTION:JBBCH Monthly meeting at the Lewistown Sherifs complex\, downstairs conference room. We begin with an educational component from 6:30 to 7:00 pm. Then at 7:00 pm we have our membership meeting. On the agenda we will be discussing the summertime rides\, our clearing the trails projects\, our stewardship projects including Sharing the Trails event April 16\, 2025. We are encouraging anyone who is interested in joining us for rides or membership to participate. \nWhile we encourage you to come to our meetings\, we have a Zoom link: https://us05web.zoom.us/j/84893454974?pwd=EtUkwXbsrROog6bn895wwLfEtNdDX8.1
URL:https://bchmt.org/wp/judith/event/420/
END:VEVENT
BEGIN:VEVENT
DTSTART;TZID=UTC:20250412T100000
DTEND;TZID=UTC:20250412T130000
DTSTAMP:20260425T163847
CREATED:20250304T152124Z
LAST-MODIFIED:20250304T152124Z
UID:425-1744452000-1744462800@bchmt.org
SUMMARY:April JBBCH Horsemen-Group  Location TBA
DESCRIPTION:The Judith Basin Back Country Horsemen are planning our first ride of the year! We will finalize the details of location on April 7th during our membership meeting. The first ride is usually easy going and an introduction to the season! Plan to be ready to ride at 10 am! Everyone is welcome to join us for a 2 ish hour ride!
URL:https://bchmt.org/wp/judith/event/april-jbbch-horsemen-group-location-tba/
END:VEVENT
BEGIN:VEVENT
DTSTART;TZID=UTC:20250416T080000
DTEND;TZID=UTC:20250416T170000
DTSTAMP:20260425T163847
CREATED:20241108T220732Z
LAST-MODIFIED:20241108T220732Z
UID:394-1744790400-1744822800@bchmt.org
SUMMARY:Sharing the Trails Education Day- Central Montana Fairgrounds
DESCRIPTION:2025 Sharing Trails Education Day:  April 15th (Tuesday event set-up) and April 16th (Wednesday event) for the event.  A more detailed schedule will be presented at a later date.
URL:https://bchmt.org/wp/judith/event/sharing-the-trails-education-day-central-montana-fairgrounds/
LOCATION:Central Montana Fairgrounds\, Lewistown Mt
END:VEVENT
BEGIN:VEVENT
DTSTART;TZID=UTC:20250417T160000
DTEND;TZID=UTC:20250417T190000
DTSTAMP:20260425T163847
CREATED:20250413T183155Z
LAST-MODIFIED:20250413T183155Z
UID:451-1744905600-1744916400@bchmt.org
SUMMARY:Arena Ride and Conditioning- April 17- 4:00 PM to ?
DESCRIPTION:The Judith Basin Back Country Horsemen are planning a group arena ride\, which is a great opportunity to get your horses used to hauling and being with others while you work patterns in the arena! The ride is held at 265 Lone Pine Lane\, Lewistown (off of Scott Crossing Road). As details unfold\, we will update you! In the meantime\, call Judy Fossum at 406 380-0075.
URL:https://bchmt.org/wp/judith/event/arena-ride-and-conditioning-april-17-400-pm-to/
LOCATION:265 Lone Pine Lane\, Lewistown\, Montana\, 265 Lone Pine Lane\, Lewistown\, Montana\, 59457
END:VEVENT
BEGIN:VEVENT
DTSTART;TZID=UTC:20250426T100000
DTEND;TZID=UTC:20250426T130000
DTSTAMP:20260425T163847
CREATED:20250413T181747Z
LAST-MODIFIED:20250413T181747Z
UID:446-1745661600-1745672400@bchmt.org
SUMMARY:Spring Trail Ride- Karen's Coulee- Upper Spring Creek April 26th 10:00 am
DESCRIPTION:The Judith Basin Back Country Horsemen have scheduled their first ride of the year! If you would like to join us\, meet at Upper Spring Creek Road\, turn off for the trail head that includes a bridge walk over an old rail car! Be ready to ride at 10:00 am. This is an easy ride with some hills and creek crossings but some hill areas are shaded and could be slippery so shoes are recommended. This ride is about 2 hours and can be longer if we decide to add on to it\, so bring a lunch or shack! If you have questions text or call Judy Fossum 406 380-0075.
URL:https://bchmt.org/wp/judith/event/spring-trail-ride-karens-coulee-upper-spring-creek-april-26th-1000-am/
END:VEVENT
BEGIN:VEVENT
DTSTART;TZID=UTC:20250517T100000
DTEND;TZID=UTC:20250517T140000
DTSTAMP:20260425T163847
CREATED:20250304T152725Z
LAST-MODIFIED:20250304T152725Z
UID:427-1747476000-1747490400@bchmt.org
SUMMARY:Group Ride- Limekiln Trail 10:00 am
DESCRIPTION:We are hosting a JBBCH group ride on Limekiln trail with ready to ride 10:00 am. This ride entails switch backs and some side of the mountain semi rugged trails with horse shoes a must\, along with basic safety gear. Be prepared for beautiful views and laughter! We typically stop for lunch to enjoy the fantastic views surrounding Fergus county- so pack a sandwich and ride with us! Everyone is welcome! For questions contact Judy Fossum 406 380-0075.
URL:https://bchmt.org/wp/judith/event/group-ride-limekiln-trail-1000-am/
END:VEVENT
BEGIN:VEVENT
DTSTART;TZID=UTC:20250517T100000
DTEND;TZID=UTC:20250517T140000
DTSTAMP:20260425T163847
CREATED:20250413T182259Z
LAST-MODIFIED:20250413T182259Z
UID:449-1747476000-1747490400@bchmt.org
SUMMARY:Trail Ride- Lime Kiln- May 17- 10:00 am
DESCRIPTION:The Judith Basin Back Country Horsemen are planning a ride around Lime Kiln trail just east of Lewistown. This ride is medium difficulty with switch backs and some steep terrain. Shoes on your horse are recommended. This loop is broken up with a lunch stop which overlooks Lewistown to the west\, so pack a lunch and spend at least 3 hours with us! This ride is a favorite of many horsemen! Be ready to ride at 10:00 am. For questions call or message Judy Fossum at 406 380-0075
URL:https://bchmt.org/wp/judith/event/trail-ride-lime-kiln-may-17-1000-am/
END:VEVENT
BEGIN:VEVENT
DTSTART;VALUE=DATE:20250607
DTEND;VALUE=DATE:20250610
DTSTAMP:20260425T163847
CREATED:20250413T183802Z
LAST-MODIFIED:20250418T222122Z
UID:456-1749254400-1749513599@bchmt.org
SUMMARY:Wade Murphy Horsemanship Clinic June 7\,8\,9 2025 at the Stanford\, Montana Fairgrounds
DESCRIPTION:The Judith Basin Back Country Horsemen have scheduled a 3 day horsemanship clinic with Wade Murphy at the beautiful Stanford\, Montana Fairgrounds. This wonderful opportunity is open to JBBCH Members and interested parties. \nThe morning class from 9am-noon all three days and will be essential groundwork. MOST ANIMALS AND RIDERS STILL NEED THIS. \nThe afternoon class from 1-4 will be mostly in the saddle. \n•Learn how to be the leader your animal wants you to be.\n•Learn the basics of centered riding.\n•Gain a new level of confidence for both you and your animal.\n•Build a solid foundation of fundamental skills for preparing for your ride.\n•Learn solid tools for gaining and maintaining confidence in the saddle.\n•FEEL– learn about feel\, how to apply it and why it is so important. \nCost: \n$250 for all 3 sessions of one class.  (BCH Member price $225) \n$450 for all 6 sessions.                      (BCH Member price $405) \nSpectators $20 per day or $40 for the entire event. \nA 50% Deposit is required to hold your spot. \nPlease Mail your checks to Wade Murphy JBBCH Event  \nWade and Lonnie Murphy 406 431-1717 \nIf you have more questions and to register please contact Rosalie Morse at 406 350-2606. \n 
URL:https://bchmt.org/wp/judith/event/wade-murphy-horsemanship-clinic-june-789-location-tba/
LOCATION:Stanford Fair Grounds\, Stanford\, Montana
END:VEVENT
BEGIN:VEVENT
DTSTART;VALUE=DATE:20250626
DTEND;VALUE=DATE:20250628
DTSTAMP:20260425T163847
CREATED:20250413T183358Z
LAST-MODIFIED:20260311T151731Z
UID:454-1750896000-1751068799@bchmt.org
SUMMARY:Annual Ride and Camp Out June 21
DESCRIPTION:Annual Ride and Campout at Middle Fork Trailhead in the Little Belts. Camping\, cooking\, laughing and riding!
URL:https://bchmt.org/wp/judith/event/annual-ride-and-camp-out-june-21/
END:VEVENT
BEGIN:VEVENT
DTSTART;TZID=UTC:20260305T080000
DTEND;TZID=UTC:20260501T170000
DTSTAMP:20260425T163847
CREATED:20260305T123341Z
LAST-MODIFIED:20260305T123341Z
UID:483-1772697600-1777654800@bchmt.org
SUMMARY:SCHOLARSHIP $500
DESCRIPTION:2026 Scholarship\nThe Judith Basin Back Country Horseman $500 scholarship application is now open!\nIt is available for residents of Fergus\, Judith Basin\, Wheatland\, Petroleum\, Musselshell\, Golden Valley or Choteau counties\, ages 16-26 for certification or degree in any farming/ranching related field\, including becoming a farrier! \nDeadline is May 1\, 2026\nContact Judy at 406 380-0075 for more information!\n\n\n\nJudy Fossum \n406 380-0075
URL:https://bchmt.org/wp/judith/event/scholarship-500/
END:VEVENT
BEGIN:VEVENT
DTSTART;TZID=UTC:20260327T080000
DTEND;TZID=UTC:20260329T170000
DTSTAMP:20260425T163847
CREATED:20260311T151046Z
LAST-MODIFIED:20260311T151046Z
UID:485-1774598400-1774803600@bchmt.org
SUMMARY:BCHMT State Convention
DESCRIPTION:Montana State BCH Convention will be held in Bozeman and eight voting members have signed up to attend this year’s convention! What a wonderful show of support and commitment by our members\, so we thank you! A reminder that everyone is welcome and encouraged to attend. JBBCH will host the convention in 2030. This year a welded and fabricated fire pit using a wheel hub\, T-Posts and used horse shoes will be the live auction item donated by our club! If you would like more information about the convention contact Judy Fossum.
URL:https://bchmt.org/wp/judith/event/bchmt-state-convention/
END:VEVENT
BEGIN:VEVENT
DTSTART;TZID=UTC:20260425T080000
DTEND;TZID=UTC:20260425T170000
DTSTAMP:20260425T163847
CREATED:20260210T142841Z
LAST-MODIFIED:20260417T144114Z
UID:471-1777104000-1777136400@bchmt.org
SUMMARY:Defensive Horsemen-Klakken Ranch
DESCRIPTION:April 25th\, 2026. Shane Klakken has offered to host the Defensive Horsemen training on his father’s land near Grass Range in conjunction with a chapter ride. \nThe Address is 1222 Penny Lane\, Grass Range\, MT.  \, Head South from Grass Range about 3 miles and then turn west on Bench Road. Turn Left at the T which is Tyler Cutoff. Drive 8 miles\, over 5 cattle guards. After the 5th cattle guard\, you are on the Klakken Ranch. Less than one mile\, the driveway turns to the left\, at the bottom of the valley. The cabin is 1 mile east of Tyler cutoff. Judy will send out directions and times via email and the turn off will be marked. If you have questions contact \nTraining and trainer categories are: \nJohn George: Loading and Unloading \nSue George: Tying a horse to a trailer \nBrad Fogle: Trailer Maintenance and tire safety \nRose Dover: Trail Etiquette \nGreg Morse: Preparedness for the unexpected \nThe spring ride has been scheduled concurrently and will follow the training. For questions call Gregg Morse 406 350-0190
URL:https://bchmt.org/wp/judith/event/spring-ride-klakken-ranch/
LOCATION:Defensive Horsemen and Trail Ride\, 1222 Penny Lane\, Grass Range\, MT
END:VEVENT
BEGIN:VEVENT
DTSTART;TZID=UTC:20260504T183000
DTEND;TZID=UTC:20260504T200000
DTSTAMP:20260425T163847
CREATED:20260417T144336Z
LAST-MODIFIED:20260417T144336Z
UID:500-1777919400-1777924800@bchmt.org
SUMMARY:JBBCH Monthly meeting May 4th 6:30 PM
DESCRIPTION:We will meet at the Lewiston Sherriff’s office downstairs. Training topic TBD. Meeting at 7:00 PM.
URL:https://bchmt.org/wp/judith/event/jbbch-monthly-meeting-may-4th-630-pm/
END:VEVENT
BEGIN:VEVENT
DTSTART;TZID=UTC:20260606T080000
DTEND;TZID=UTC:20260606T170000
DTSTAMP:20260425T163847
CREATED:20260210T143717Z
LAST-MODIFIED:20260417T131425Z
UID:473-1780732800-1780765200@bchmt.org
SUMMARY:Think Like a Horse: Obstacle Course Clinic Candy Philips- Grass Range
DESCRIPTION:Candy is planning an obstacle course clinic called “Think Like a Horse”\, on Sue and John George’s land by Grass Range. Candy will give us more updates later but there will be a fee and the clinic is limited to 10 riders. If you are interested contact Candy Phillips 406 940-5880 or by email at phillips1020@yahoo.com.
URL:https://bchmt.org/wp/judith/event/obstacle-course-clinic-candy-philips-grass-range/
END:VEVENT
BEGIN:VEVENT
DTSTART;TZID=UTC:20260619T120000
DTEND;TZID=UTC:20260620T170000
DTSTAMP:20260425T163847
CREATED:20260311T151539Z
LAST-MODIFIED:20260417T133829Z
UID:487-1781870400-1781974800@bchmt.org
SUMMARY:George family campout and ride in Grass Range
DESCRIPTION:John and Sue George will be hosting a campout and ride on their property which hosts miles of trails connecting to State land. This is an overnight campout with a potluck. There are miles of trails on adjoining State lands. More information will follow.
URL:https://bchmt.org/wp/judith/event/george-family-campout-and-ride-in-grass-range/
END:VEVENT
BEGIN:VEVENT
DTSTART;TZID=UTC:20260626T100000
DTEND;TZID=UTC:20260628T190000
DTSTAMP:20260425T163847
CREATED:20260210T144107Z
LAST-MODIFIED:20260417T132307Z
UID:476-1782468000-1782673200@bchmt.org
SUMMARY:Annual Ride and Campout at Middle Fork Campground in the Little Belts
DESCRIPTION:We will have our annual ride and camp out again at the Middle Fork Campground in the Little Belts where there is plenty of trailer parking\, camping opportunities and trails. We will provided more details later\, but the cookout is on Saturday\, after our ride\, usually around 5:00 pm with Gregg Morse as our camp cook. It is potluck. \nOn Friday\, June 26th\, we will also be setting up our wall tent and always need volunteers to help “pitch it”. We arrive on Friday to set up the tent and to set up our horses and trailers for the night. \nThe group trail ride in on Saturday and we will be ready to ride around 10:00 am. The ride is typically about 4 hours. \nSunday we bread down our tent and camp site and head safely home! \nIf you have questions contact Judy at 406 380-0075.
URL:https://bchmt.org/wp/judith/event/annual-ride-and-campout-arch-coulee/
END:VEVENT
BEGIN:VEVENT
DTSTART;TZID=UTC:20260731T080000
DTEND;TZID=UTC:20260801T170000
DTSTAMP:20260425T163847
CREATED:20260210T144707Z
LAST-MODIFIED:20260210T144707Z
UID:478-1785484800-1785603600@bchmt.org
SUMMARY:Judith Mountain 10 K Run - Equine Packing and Support from JBBCH Riders
DESCRIPTION:Judith Mountain 10K\nTHE JBBCH will be supporting this event at Limekiln trail in the Judith Mountains by packing in needed supplies and water for the runners\, hikers and walkers. We will do this the day prior to the run\, also ensuring that the trail is cleared. We will need riders with pack stock to carry in supplies. More information to come.  \n\n\n\n\nFrom Judith Mountain 10K \n\n\nDate Sat 1st August 2026\nTime 8:00AM MDT\nLocationLewistown\, Montana\nPrice$38.53 – $49.11\nRaces2 races\nDistances10km\n\n\n\n\nShareSave\n\nEvent summary \n\nGet ready for an exhilarating experience at the Judith Mountain 10K\, taking place on Saturday\, August 1st\, 2026\, in the stunning Judith Mountains near Lewistown\, Fergus\, Montana! Organized by the Judith Mountain 10K team\, this premier trail race offers a thrilling 6.2-mile loop course that challenges participants with an intermediate level of difficulty and an impressive elevation gain of 1\,280 feet. Runners will enjoy breathtaking views as they navigate through pristine single-track trails\, making it a must-do event for outdoor enthusiasts.
URL:https://bchmt.org/wp/judith/event/judith-mountain-10-k-run-equine-packing-and-support-from-jbbch-riders/
END:VEVENT
END:VCALENDAR