BEGIN:VCALENDAR
VERSION:2.0
PRODID:-//Judith Basin Back Country Horsemen - ECPv6.15.20//NONSGML v1.0//EN
CALSCALE:GREGORIAN
METHOD:PUBLISH
X-ORIGINAL-URL:https://bchmt.org/wp/judith
X-WR-CALDESC:Events for Judith Basin Back Country Horsemen
REFRESH-INTERVAL;VALUE=DURATION:PT1H
X-Robots-Tag:noindex
X-PUBLISHED-TTL:PT1H
BEGIN:VTIMEZONE
TZID:UTC
BEGIN:STANDARD
TZOFFSETFROM:+0000
TZOFFSETTO:+0000
TZNAME:UTC
DTSTART:20230101T000000
END:STANDARD
END:VTIMEZONE
BEGIN:VEVENT
DTSTART;TZID=UTC:20240522T100000
DTEND;TZID=UTC:20240522T150000
DTSTAMP:20260424T220323
CREATED:20240507T204322Z
LAST-MODIFIED:20240515T205723Z
UID:348-1716372000-1716390000@bchmt.org
SUMMARY:Trail Clearing- Lime Kiln Trail Ride
DESCRIPTION:Judith Mountains at Lime Kiln. Meet at the lodge and be ready to ride at 10:00 am.
URL:https://bchmt.org/wp/judith/event/trail-clearing-lime-kiln-trail-ride/
END:VEVENT
BEGIN:VEVENT
DTSTART;TZID=UTC:20240519T100000
DTEND;TZID=UTC:20240519T150000
DTSTAMP:20260424T220323
CREATED:20240507T204641Z
LAST-MODIFIED:20240515T195738Z
UID:350-1716112800-1716130800@bchmt.org
SUMMARY:Trail Ride- Upper Spring Creek
DESCRIPTION:Group trail ride at upper Spring Creek east of Lewistown. Also known as Karen’s Coulee. Be ready to ride at 10:00 Judy will contact Burley’s for permission to park at their approach. Judy will put that information in the Trail Mix newsletter.
URL:https://bchmt.org/wp/judith/event/trail-ride-upper-spring-creek/
LOCATION:Upper Spring Creek\, Lewistown\, 59457\, United States
END:VEVENT
BEGIN:VEVENT
DTSTART;TZID=UTC:20240510T080000
DTEND;TZID=UTC:20240510T170000
DTSTAMP:20260424T220323
CREATED:20240411T120612Z
LAST-MODIFIED:20240411T120612Z
UID:331-1715328000-1715360400@bchmt.org
SUMMARY:Fund Raiser and Shot Clinic
DESCRIPTION:Fund Raiser shot clinic: Clear Creek Veterinary will once again give the chapter a kickback on equine vaccinations purchased through them. May 10th is the day they have set aside for them to administer the vaccines for a $5.00 fee if you choose. You may pick them up and administer them yourselves. All must be picked up and paid for no later than June 10th. Cost is: Prestige V WNV is $48.50 with a $4.00 kickback. Prestige III WNV is $32.00 with a $4.00 kickback. When purchasing horse vaccines through CCVC you can receive a discounted price on Panacur paste dewormer.  Please call\, email or text  me (406-380-0075)  or the vet clinic (406-535-6789)  to get on the list. 
URL:https://bchmt.org/wp/judith/event/fund-raiser-and-shot-clinic/
LOCATION:Clear Creet Vet Clinic\, Lewistown\, Montana 59457\, MT\, 59457\, United States
END:VEVENT
BEGIN:VEVENT
DTSTART;TZID=UTC:20240410T173000
DTEND;TZID=UTC:20240410T193000
DTSTAMP:20260424T220323
CREATED:20240322T230357Z
LAST-MODIFIED:20240322T231409Z
UID:216-1712770200-1712777400@bchmt.org
SUMMARY:First Aid Renewal April 10\, 2024 Sheriffs Complex 5:00 PM
DESCRIPTION:Instructor: Jessica Goodheart \nQuestions Contact: Linda Westby 406 370-6833 \nAny persons working on the trails are required to be certified and the chapter covers the cost of the training.
URL:https://bchmt.org/wp/judith/event/first-aid-renewal-april-10-2024-sheriffs-complex-500-pm/
END:VEVENT
BEGIN:VEVENT
DTSTART;TZID=UTC:20240401T183000
DTEND;TZID=UTC:20240401T190000
DTSTAMP:20260424T220323
CREATED:20240322T230714Z
LAST-MODIFIED:20240323T001335Z
UID:218-1711996200-1711998000@bchmt.org
SUMMARY:Defensive Horsemanship-- Renewal April 1\, 2024 6:30 PM Sherrif's Complex
DESCRIPTION:The JBBCH will offer defensive horsemanship as our educational component during the April meeting. Weather permitting\, we will have the “fun” hands on component at the arena area. More details about this to come.
URL:https://bchmt.org/wp/judith/event/defensive-horsemanship-renewal-april-1-2024-630-pm-sherrifs-complex/
END:VEVENT
END:VCALENDAR