Workbook

Sheet TOTALS SHEET
A1: Backcountry Horsemen of Montana
A2: Volunteer Hours Report
A3: Janurary 1 - December 31, 2025
J4: Edit this column to change the published values
D5: Rate per
C6: P1 Totals | D6: hour/mile/day | E6: Total Value | J6: Current Rate per hour/mile/day:
A7: Total Basic Hours | C7: ='SUMMARY SHEET'!B33 -> 2301 | D7: =J7 -> 34.79 | E7: =SUM(C7*D7) -> 80051.79 | F7: Calculated per hour | J7: 34.79
A8: Total Skilled Hours | C8: ='SUMMARY SHEET'!C33 -> 2679 | D8: =J8 -> 52.19 | E8: =SUM(C8*D8) -> 139817.01 | F8: Calculated per hour | J8: 52.19
A9: Total Trail Recon Hours | C9: ='SUMMARY SHEET'!D33 -> 305 | D9: =J9 -> 34.79 | E9: =SUM(C9*D9) -> 10610.95 | F9: Calculated per hour | J9: 34.79
A10: Total LNT - Education | C10: ='SUMMARY SHEET'!H33 -> 1268 | D10: =J10 -> 34.79 | E10: =SUM(C10*D10) -> 44113.72 | F10: Calculated per hour | J10: 34.79
A11: Total Public Meetings | C11: ='SUMMARY SHEET'!I33 -> 616 | D11: =J11 -> 34.79 | E11: =SUM(C11*D11) -> 21430.64 | F11: Calculated per hour | J11: 34.79
A12: Total Administative Service | C12: ='SUMMARY SHEET'!J33 -> 545 | D12: =J12 -> 34.79 | E12: =SUM(C12*D12) -> 18960.55 | F12: Calculated per hour | J12: 34.79
A13: Total Travel Time | C13: ='SUMMARY SHEET'!K33 -> 1747 | D13: =J13 -> 34.79 | E13: =SUM(C13*D13) -> 60778.13 | F13: Calculated per hour | J13: 34.79
A14: Total Hours | C14: =SUM(C7:C13) -> 9461
A16: Wilderness Trail Miles | C16: ='SUMMARY SHEET'!E33 -> 671
A17: National Scenic Trail Miles | C17: ='SUMMARY SHEET'!F33 -> 53
A18: Other Trail Miles | C18: ='SUMMARY SHEET'!G33 -> 874
A19: Total Trail Miles | C19: =SUM(C16:C18) -> 1598
A21: Personal Vehicle | C21: ='SUMMARY SHEET'!L33 -> 20733 | D21: =J21 -> 0.67 | E21: =SUM(C21*D21) -> 13891.11 | F21: Calculated per mile | J21: 0.67
A22: Stock Hauling | C22: ='SUMMARY SHEET'!M33 -> 37440 | D22: =J22 -> 1.35 | E22: =SUM(C22*D22) -> 50544 | F22: Calculated per mile | J22: 1.35
A23: Total Travel Miles | C23: =SUM(C21:C22) -> 58173
A25: Power Equipment | C25: ='SUMMARY SHEET'!N33 -> 454 | D25: =J25 -> 35 | E25: =SUM(C25*D25) -> 15890 | F25: Calculated per hour | J25: 35
A26: Heavy Equipment | C26: ='SUMMARY SHEET'!O33 -> 145 | D26: =J26 -> 140 | E26: =SUM(C26*D26) -> 20300 | F26: Calculated per hour | J26: 140
A27: Total Equipment Hours | C27: =SUM(C25:C26) -> 599
A29: Total Stock (Pack and Saddle) | C29: ='SUMMARY SHEET'!P33 -> 744
A30: Total Stock Days | C30: ='SUMMARY SHEET'!Q33 -> 997 | D30: =J30 -> 125 | E30: =SUM(C30*D30) -> 124625 | F30: Calculated per day | J30: 125
A33: Total Donations | C33: ='SUMMARY SHEET'!R33 -> 45574 | E33: =SUM(C33) -> 45574
D34: Total | E34: =SUM(E7:E33) -> 646586.9

Sheet SUMMARY SHEET
E1: Backcountry Horsemen of America
E2: Volunteer Hours Report
A5: State/Chapter Summary | B5: Volunteer Work | K5: Transportation | N5: Equipment Hours | P5: Horses & Mules | R5: Donations
A6: or Project Name | B6: Trail Work Hours | E6: Trail Miles | H6: Education | I6: Public | J6: Admin | K6: Travel | L6: Personal | M6: Stock | N6: Power | O6: Heavy | P6: Quantity | Q6: Stock | R6: Dollar
B7: Basic | C7: Skilled | D7: Recon | E7: Wilderness | F7: Scenic | G7: Other | H7: & LOTL | I7: Meetings | J7: Service | K7: Time | L7: POV Miles | M7: Haul Miles | N7: Equip | O7: Equip | P7: Stock | Q7: Days | R7: Amount
A8: Beartooth | B8: ='Project 1'!E29 -> 0 | C8: ='Project 1'!F29 -> 0 | D8: ='Project 1'!G29 -> 0 | E8: ='Project 1'!H29 -> 0 | F8: ='Project 1'!I29 -> 0 | G8: ='Project 1'!J29 -> 0 | H8: ='Project 1'!K29 -> 0 | I8: ='Project 1'!L29 -> 0 | ... R8: ='Project 1'!U29 -> 0
A9: Bitterroot | B9: 376 | C9: 32 | D9: 29 | E9: ='Project 2'!H29 -> 0 | F9: ='Project 2'!I29 -> 0 | G9: 46 | H9: 3 | I9: 4 | J9: 15 | K9: 76 | L9: 4509 | M9: 1150 | N9: 8 | O9: 2 | P9: 24 | Q9: 32 | R9: 750
A10: Cabinet | B10: 19 | C10: ='Project 3'!F29 -> 0 | D10: ='Project 3'!G29 -> 0 | E10: ='Project 3'!H29 -> 0 | F10: 5 | G10: ='Project 3'!J29 -> 0 | H10: ='Project 3'!K29 -> 0 | I10: ='Project 3'!L29 -> 0 | J10: ='Project 3'!M29 -> 0 | K10: ='Project 3'!N29 -> 0 | L10: ='Project 3'!O29 -> 0 | M10: ='Project 3'!P29 -> 0 | N10: ='Project 3'!Q29 -> 0 | O10: ='Project 3'!R29 -> 0 | P10: 3 | Q10: 6 | R10: ='Project 3'!U29 -> 0
A11: Charlie Russell | B11: ='Project 4'!E29 -> 0 | C11: ='Project 4'!F29 -> 0 | D11: ='Project 4'!G29 -> 0 | E11: ='Project 4'!H29 -> 0 | F11: ='Project 4'!I29 -> 0 | G11: ='Project 4'!J29 -> 0 | H11: ='Project 4'!K29 -> 0 | I11: ='Project 4'!L29 -> 0 | ... R11: ='Project 4'!U29 -> 0
A12: East Slope | B12: ='Project 5'!E29 -> 0 | C12: 57 | D12: ='Project 5'!G29 -> 0 | E12: ='Project 5'!H29 -> 0 | F12: ='Project 5'!I29 -> 0 | G12: 36 | H12: ='Project 5'!K29 -> 0 | I12: ='Project 5'!L29 -> 0 | J12: ='Project 5'!M29 -> 0 | K12: 12 | L12: 352 | M12: ='Project 5'!P29 -> 0 | N12: ='Project 5'!Q29 -> 0 | O12: 51 | P12: 8 | Q12: 8 | R12: ='Project 5'!U29 -> 0
A13: Gallatin Valley | B13: 942 | C13: 1216 | D13: ='Project 6'!G29 -> 0 | E13: 305 | F13: ='Project 6'!I29 -> 0 | G13: 361 | H13: 16 | I13: 310 | J13: 218 | K13: 658 | L13: 3244 | M13: 16012 | N13: 23 | O13: ='Project 6'!R29 -> 0 | P13: 325 | Q13: 480 | R13: ='Project 6'!U29 -> 0
A14: Judith Basin | B14: 62 | C14: 10 | D14: ='Project 7'!G29 -> 0 | E14: ='Project 7'!H29 -> 0 | F14: ='Project 7'!I29 -> 0 | G14: 27 | H14: 105 | I14: ='Project 7'!L29 -> 0 | J14: 3 | K14: 93 | L14: 762 | M14: 1253 | N14: ='Project 7'!Q29 -> 0 | O14: ='Project 7'!R29 -> 0 | P14: 26 | Q14: 26 | R14: ='Project 7'!U29 -> 0
A15: Last Chance | B15: 37 | C15: 204 | D15: 18 | E15: 103 | F15: ='Project 8'!I29 -> 0 | G15: 169 | H15: 15 | I15: ='Project 8'!L29 -> 0 | J15: 18 | K15: 79 | L15: 1414 | M15: 1454 | N15: 2 | O15: ='Project 8'!R29 -> 0 | P15: 47 | Q15: 47 | R15: ='Project 8'!U29 -> 0
A16: Mission Valley | B16: 12 | C16: 30 | D16: ='Project 9'!G29 -> 0 | E16: ='Project 9'!H29 -> 0 | F16: ='Project 9'!I29 -> 0 | G16: 22 | H16: 236 | I16: 149 | J16: 112 | K16: 49 | L16: 1835 | M16: 464 | N16: 30 | O16: ='Project 9'!R29 -> 0 | P16: 5 | Q16: 5 | R16: 550
A17: Missoula | B17: 164 | C17: ='Project 10'!F29 -> 0 | D17: ='Project 10'!G29 -> 0 | E17: 176 | F17: 48 | G17: ='Project 10'!J29 -> 0 | H17: 40 | I17: 55 | J17: 12 | K17: 89 | L17: 516 | M17: 2196 | N17: 18 | O17: ='Project 10'!R29 -> 0 | P17: 11 | Q17: 44 | R17: ='Project 10'!U29 -> 0
A18: NW Montana | B18: ='Project 11'!E29 -> 0 | C18: ='Project 11'!F29 -> 0 | D18: ='Project 11'!G29 -> 0 | E18: ='Project 11'!H29 -> 0 | F18: ='Project 11'!I29 -> 0 | G18: ='Project 11'!J29 -> 0 | H18: ='Project 11'!K29 -> 0 | I18: ='Project 11'!L29 -> 0 | ... R18: ='Project 11'!U29 -> 0
A19: Selway Pintler | B19: 90 | C19: 159 | D19: ='Project 12'!G29 -> 0 | E19: 87 | F19: ='Project 12'!I29 -> 0 | G19: 113 | H19: 82 | I19: ='Project 12'!L29 -> 0 | J19: 35 | K19: 86 | L19: 796 | M19: 1572 | N19: 22 | O19: ='Project 12'!R29 -> 0 | P19: 43 | Q19: 58 | R19: ='Project 12'!U29 -> 0
A20: Three Rivers | B20: 80 | C20: 176 | D20: 20 | G20: 18 | J20: 20 | K20: 15 | L20: 586 | M20: 478 | N20: 18 | P20: 15 | Q20: 15
A21: Flathead | B21: 96 | C21: 570 | D21: 238 | G21: 59 | H21: 675 | I21: 97 | J21: 96 | K21: 392 | L21: 4282 | M21: 9666 | N21: 325 | O21: 72 | P21: 123 | Q21: 162 | R21: 44046
A22: Mile High (Upper Clark Fork)
A23: Wild Horse Plains | B23: 423 | C23: 225 | G23: 23 | H23: 96 | I23: 1 | J23: 16 | K23: 198 | L23: 2437 | M23: 3195 | N23: 8 | O23: 20 | P23: 114 | Q23: 114 | R23: 228
A24: Blank1 | B24: =#REF! -> #REF! | C24: =#REF! -> #REF! | D24: =#REF! -> #REF! | E24: =#REF! -> #REF! | G24: =#REF! -> #REF! | H24: =#REF! -> #REF! | I24: =#REF! -> #REF! | J24: =#REF! -> #REF! | K24: =#REF! -> #REF! | L24: =#REF! -> #REF! | M24: =#REF! -> #REF! | N24: =#REF! -> #REF! | ... R24: =#REF! -> #REF!
A25: Blank2 | B25: =#REF! -> #REF! | C25: =#REF! -> #REF! | D25: =#REF! -> #REF! | E25: =#REF! -> #REF! | G25: =#REF! -> #REF! | H25: =#REF! -> #REF! | I25: =#REF! -> #REF! | J25: =#REF! -> #REF! | K25: =#REF! -> #REF! | L25: =#REF! -> #REF! | M25: =#REF! -> #REF! | N25: =#REF! -> #REF! | ... R25: =#REF! -> #REF!
A26: Blank3 | B26: =Blank3!$E$29 -> 0 | C26: =Blank3!$F$29 -> 0 | D26: =Blank3!$G$29 -> 0 | E26: =Blank3!$H$29 -> 0 | G26: =Blank3!$I$29 -> 0 | H26: =Blank3!$J$29 -> 0 | I26: =Blank3!$K$29 -> 0 | J26: =Blank3!$L$29 -> 0 | K26: =Blank3!$M$29 -> 0 | L26: =Blank3!$N$29 -> 0 | M26: =Blank3!$O$29 -> 0 | N26: =Blank3!$P$29 -> 0 | O26: =Blank3!$Q$29 -> 0 | P26: =Blank3!$R$29 -> 0 | Q26: =Blank3!$S$29 -> 0 | R26: =Blank3!$T$29 -> 0
A27: Blank4 | B27: =Blank4!$E$29 -> 0 | C27: =Blank4!$F$29 -> 0 | D27: =Blank4!$G$29 -> 0 | E27: =Blank4!$H$29 -> 0 | G27: =Blank4!$I$29 -> 0 | H27: =Blank4!$J$29 -> 0 | I27: =Blank4!$K$29 -> 0 | J27: =Blank4!$L$29 -> 0 | K27: =Blank4!$M$29 -> 0 | L27: =Blank4!$N$29 -> 0 | M27: =Blank4!$O$29 -> 0 | N27: =Blank4!$P$29 -> 0 | O27: =Blank4!$Q$29 -> 0 | P27: =Blank4!$R$29 -> 0 | Q27: =Blank4!$S$29 -> 0 | R27: =Blank4!$T$29 -> 0
A28: Blank5 | B28: =Blank5!$E$29 -> 0 | C28: =Blank5!$F$29 -> 0 | D28: =Blank5!$G$29 -> 0 | E28: =Blank5!$H$29 -> 0 | G28: =Blank5!$I$29 -> 0 | H28: =Blank5!$J$29 -> 0 | I28: =Blank5!$K$29 -> 0 | J28: =Blank5!$L$29 -> 0 | K28: =Blank5!$M$29 -> 0 | L28: =Blank5!$N$29 -> 0 | M28: =Blank5!$O$29 -> 0 | N28: =Blank5!$P$29 -> 0 | O28: =Blank5!$Q$29 -> 0 | P28: =Blank5!$R$29 -> 0 | Q28: =Blank5!$S$29 -> 0 | R28: =Blank5!$T$29 -> 0
B30: Volunteer Work | K30: Transportation | N30: Equipment Hours | P30: Horses & Mules | R30: Donations
B31: Trail Work Hours | E31: Trail Miles | H31: Education | I31: Public | J31: Admin | K31: Travel | L31: Personal | M31: Stock | N31: Power | O31: Heavy | P31: Quant | Q31: Stock | R31: Dollar
B32: Basic | C32: Skilled | D32: Recon | E32: Wilderness | F32: Scenic | G32: Other | H32: & LNT | I32: Meetings | J32: Service | K32: Time | L32: POV Miles | M32: Haul Miles | N32: Hours | O32: Hours | P32: Stock | Q32: Days | R32: Amount
A33: Totals | B33: =SUM(B8:B23) -> 2301 | C33: =SUM(C8:C23) -> 2679 | D33: =SUM(D8:D23) -> 305 | E33: =SUM(E8:E23) -> 671 | F33: =SUM(F8:F23) -> 53 | G33: =SUM(G8:G23) -> 874 | H33: =SUM(H8:H23) -> 1268 | I33: =SUM(I8:I23) -> 616 | ... R33: =SUM(R8:R23) -> 45574
C41: 5

Sheet Project 1
F1: Backcountry Horsemen of America
A2: Project Leader | F2: Volunteer Hours Report | P2: National Scenic Trail Name
A3: Agency Contact Person | F3: Project Name
A4: Year
B6: Project Information | E6: Work Hours | H6: Work Miles | K6: Community Service | N6: Travel Time/Miles | Q6: Equipment | S6: Stock Use | U6: Donation
A7: Volunteer Name or | B7: Activity | C7: Agency | D7: District | E7: Basic | F7: Skilled | G7: Recon | H7: Wilderness | I7: Nat. Scenic | J7: Other | K7: Education | L7: Public | M7: Admin | N7: Travel | O7: Vehicle | P7: Stock | Q7: Power | R7: Heavy | S7: Stock | T7: Stock | U7: Dollar
A8: Individual Project Location | B8: Date | C8: Code | E8: Work | F8: Work | G8: Work | H8: Miles | I8: Miles | J8: Miles | K8: & LOTL | L8: Meeting | M8: Service | N8: Time | O8: Miles | P8: Hauling | Q8: Equip | R8: Equip | S8: Used | T8: Days | U8: Amount
A29: Totals | E29: =SUM(E9:E28) -> 0 | F29: =SUM(F9:F28) -> 0 | G29: =SUM(G9:G28) -> 0 | H29: =SUM(H9:H28) -> 0 | I29: =SUM(I9:I28) -> 0 | J29: =SUM(J9:J28) -> 0 | K29: =SUM(K9:K28) -> 0 | L29: =SUM(L9:L28) -> 0 | ... U29: =SUM(U9:U28) -> 0
A30: Agency Codes:
A31: A. USFS | B31: D. National Parks | F31: G. Other | H31: N. US Fish & Wildlife | M31: T. Timber, Private
A32: B. State DNR | B32: E. Education | F32: L. LOTL | H32: O. US COE | M32: W. County
A33: C. State Parks & Hwys | B33: F. Dept. Fish & Wildlife | F33: M. BLM | H33: R. Rendezvous | M33: Z. National Scenic Trails

Sheet Project 2
F1: Backcountry Horsemen of America
A2: Project Leader | F2: Volunteer Hours Report | P2: National Scenic Trail Name
A3: Agency Contact Person | F3: Project name
A4: Year
B6: Project Information | E6: Work Hours | H6: Work Miles | K6: Community Service | N6: Travel Time/Miles | Q6: Equipment | S6: Stock Use | U6: Donation
A7: Volunteer Name or | B7: Activity | C7: Agency | D7: District | E7: Basic | F7: Skilled | G7: Recon | H7: Wilderness | I7: Nat. Scenic | J7: Other | K7: Education | L7: Public | M7: Admin | N7: Travel | O7: Vehicle | P7: Stock | Q7: Power | R7: Heavy | S7: Stock | T7: Stock | U7: Dollar
A8: Individual Project Location | B8: Date | C8: Code | E8: Work | F8: Work | G8: Work | H8: Miles | I8: Miles | J8: Miles | K8: & LOL | L8: Meeting | M8: Service | N8: Time | O8: Miles | P8: Hauling | Q8: Equip | R8: Equip | S8: Used | T8: Days | U8: Amount
A29: Totals | E29: =SUM(E9:E28) -> 0 | F29: =SUM(F9:F28) -> 0 | G29: =SUM(G9:G28) -> 0 | H29: =SUM(H9:H28) -> 0 | I29: =SUM(I9:I28) -> 0 | J29: =SUM(J9:J28) -> 0 | K29: =SUM(K9:K28) -> 0 | L29: =SUM(L9:L28) -> 0 | ... U29: =SUM(U9:U28) -> 0
A30: Agency Codes:
A31: A. USFS | B31: D. National Parks | F31: G. Other | H31: N. US Fish & Wildlife | M31: T. Timber, Private
A32: B. State DNR | B32: E. Education | F32: L. LNT | H32: O. US COE | M32: W. County
A33: C. State Parks & Hwys | B33: F. Dept. Fish & Wildlife | F33: M. BLM | H33: R. Rendezvous | M33: Z. National Scenic Trails

Sheet Project 3
F1: Backcountry Horsemen of America
A2: Project Leader | F2: Volunteer Hours Report | P2: National Scenic Trail Name
A3: Agency Contact Person | F3: Project Name
A4: Year
B6: Project Information | E6: Work Hours | H6: Work Miles | K6: Community Service | N6: Travel Time/Miles | Q6: Equipment | S6: Stock Use | U6: Donation
A7: Volunteer Name or | B7: Activity | C7: Agency | D7: District | E7: Basic | F7: Skilled | G7: Recon | H7: Wilderness | I7: Nat. Scenic | J7: Other | K7: Education | L7: Public | M7: Admin | N7: Travel | O7: Vehicle | P7: Stock | Q7: Power | R7: Heavy | S7: Stock | T7: Stock | U7: Dollar
A8: Individual Project Location | B8: Date | C8: Code | E8: Work | F8: Work | G8: Work | H8: Miles | I8: Miles | J8: Miles | K8: & LOL | L8: Meeting | M8: Service | N8: Time | O8: Miles | P8: Hauling | Q8: Equip | R8: Equip | S8: Used | T8: Days | U8: Amount
A29: Totals | E29: =SUM(E9:E28) -> 0 | F29: =SUM(F9:F28) -> 0 | G29: =SUM(G9:G28) -> 0 | H29: =SUM(H9:H28) -> 0 | I29: =SUM(I9:I28) -> 0 | J29: =SUM(J9:J28) -> 0 | K29: =SUM(K9:K28) -> 0 | L29: =SUM(L9:L28) -> 0 | ... U29: =SUM(U9:U28) -> 0
A30: Agency Codes:
A31: A. USFS | B31: D. National Parks | F31: G. Other | H31: N. US Fish & Wildlife | M31: T. Timber, Private
A32: B. State DNR | B32: E. Education | F32: L. LOL | H32: O. US COE | M32: W. County
A33: C. State Parks & Hwys | B33: F. Dept. Fish & Wildlife | F33: M. BLM | H33: R. Rendezvous | M33: Z. National Scenic Trails

Sheet Project 4
F1: Backcountry Horsemen of America
A2: Project Leader | F2: Volunteer Hours Report | P2: National Scenic Trail Name
A3: Agency Contact Person | F3: Project Name
A4: Year
B6: Project Information | E6: Work Hours | H6: Work Miles | K6: Community Service | N6: Travel Time/Miles | Q6: Equipment | S6: Stock Use | U6: Donation
A7: Volunteer Name or | B7: Activity | C7: Agency | D7: District | E7: Basic | F7: Skilled | G7: Recon | H7: Wilderness | I7: Nat. Scenic | J7: Other | K7: Education | L7: Public | M7: Admin | N7: Travel | O7: Vehicle | P7: Stock | Q7: Power | R7: Heavy | S7: Stock | T7: Stock | U7: Dollar
A8: Individual Project Location | B8: Date | C8: Code | E8: Work | F8: Work | G8: Work | H8: Miles | I8: Miles | J8: Miles | K8: & LOL | L8: Meeting | M8: Service | N8: Time | O8: Miles | P8: Hauling | Q8: Equip | R8: Equip | S8: Used | T8: Days | U8: Amount
A29: Totals | E29: =SUM(E9:E28) -> 0 | F29: =SUM(F9:F28) -> 0 | G29: =SUM(G9:G28) -> 0 | H29: =SUM(H9:H28) -> 0 | I29: =SUM(I9:I28) -> 0 | J29: =SUM(J9:J28) -> 0 | K29: =SUM(K9:K28) -> 0 | L29: =SUM(L9:L28) -> 0 | ... U29: =SUM(U9:U28) -> 0
A30: Agency Codes:
A31: A. USFS | B31: D. National Parks | F31: G. Other | H31: N. US Fish & Wildlife | M31: T. Timber, Private
A32: B. State DNR | B32: E. Education | F32: L. LNT | H32: O. US COE | M32: W. County
A33: C. State Parks & Hwys | B33: F. Dept. Fish & Wildlife | F33: M. BLM | H33: R. Rendezvous | M33: Z. National Scenic Trails

Sheet Project 5
F1: Backcountry Horsemen of America
A2: Project Leader | F2: Volunteer Hours Report | P2: National Scenic Trail Name
A3: Agency Contact Person | F3: Project Name
A4: Year
B6: Project Information | E6: Work Hours | H6: Work Miles | K6: Community Service | N6: Travel Time/Miles | Q6: Equipment | S6: Stock Use | U6: Donation
A7: Volunteer Name or | B7: Activity | C7: Agency | D7: District | E7: Basic | F7: Skilled | G7: Recon | H7: Wilderness | I7: Nat. Scenic | J7: Other | K7: Education | L7: Public | M7: Admin | N7: Travel | O7: Vehicle | P7: Stock | Q7: Power | R7: Heavy | S7: Stock | T7: Stock | U7: Dollar
A8: Individual Project Location | B8: Date | C8: Code | E8: Work | F8: Work | G8: Work | H8: Miles | I8: Miles | J8: Miles | K8: & LOL | L8: Meeting | M8: Service | N8: Time | O8: Miles | P8: Hauling | Q8: Equip | R8: Equip | S8: Used | T8: Days | U8: Amount
A29: Totals | E29: =SUM(E9:E28) -> 0 | F29: =SUM(F9:F28) -> 0 | G29: =SUM(G9:G28) -> 0 | H29: =SUM(H9:H28) -> 0 | I29: =SUM(I9:I28) -> 0 | J29: =SUM(J9:J28) -> 0 | K29: =SUM(K9:K28) -> 0 | L29: =SUM(L9:L28) -> 0 | ... U29: =SUM(U9:U28) -> 0
A30: Agency Codes:
A31: A. USFS | B31: D. National Parks | F31: G. Other | H31: N. US Fish & Wildlife | M31: T. Timber, Private
A32: B. State DNR | B32: E. Education | F32: L. LOTL | H32: O. US COE | M32: W. County
A33: C. State Parks & Hwys | B33: F. Dept. Fish & Wildlife | F33: M. BLM | H33: R. Rendezvous | M33: Z. National Scenic Trails

Sheet Project 6
F1: Backcountry Horsemen of America
A2: Project Leader | F2: Volunteer Hours Report | P2: National Scenic Trail Name
A3: Agency Contact Person | F3: Project Name
A4: Year
B6: Project Information | E6: Work Hours | H6: Work Miles | K6: Community Service | N6: Travel Time/Miles | Q6: Equipment | S6: Stock Use | U6: Donation
A7: Volunteer Name or | B7: Activity | C7: Agency | D7: District | E7: Basic | F7: Skilled | G7: Recon | H7: Wilderness | I7: Nat. Scenic | J7: Other | K7: Education | L7: Public | M7: Admin | N7: Travel | O7: Vehicle | P7: Stock | Q7: Power | R7: Heavy | S7: Stock | T7: Stock | U7: Dollar
A8: Individual Project Location | B8: Date | C8: Code | E8: Work | F8: Work | G8: Work | H8: Miles | I8: Miles | J8: Miles | K8: & LOL | L8: Meeting | M8: Service | N8: Time | O8: Miles | P8: Hauling | Q8: Equip | R8: Equip | S8: Used | T8: Days | U8: Amount
A29: Totals | E29: =SUM(E9:E28) -> 0 | F29: =SUM(F9:F28) -> 0 | G29: =SUM(G9:G28) -> 0 | H29: =SUM(H9:H28) -> 0 | I29: =SUM(I9:I28) -> 0 | J29: =SUM(J9:J28) -> 0 | K29: =SUM(K9:K28) -> 0 | L29: =SUM(L9:L28) -> 0 | ... U29: =SUM(U9:U28) -> 0
A30: Agency Codes:
A31: A. USFS | B31: D. National Parks | F31: G. Other | H31: N. US Fish & Wildlife | M31: T. Timber, Private
A32: B. State DNR | B32: E. Education | F32: L. LNT | H32: O. US COE | M32: W. County
A33: C. State Parks & Hwys | B33: F. Dept. Fish & Wildlife | F33: M. BLM | H33: R. Rendezvous | M33: Z. National Scenic Trails

Sheet Project 7
F1: Backcountry Horsemen of America
A2: Project Leader | F2: Volunteer Hours Report | P2: National Scenic Trail Name
A3: Agency Contact Person
A4: Year
B6: Project Information | E6: Work Hours | H6: Work Miles | K6: Community Service | N6: Travel Time/Miles | Q6: Equipment | S6: Stock Use | U6: Donation
A7: Volunteer Name or | B7: Activity | C7: Agency | D7: District | E7: Basic | F7: Skilled | G7: Recon | H7: Wilderness | I7: Nat. Scenic | J7: Other | K7: Education | L7: Public | M7: Admin | N7: Travel | O7: Vehicle | P7: Stock | Q7: Power | R7: Heavy | S7: Stock | T7: Stock | U7: Dollar
A8: Individual Project Location | B8: Date | C8: Code | E8: Work | F8: Work | G8: Work | H8: Miles | I8: Miles | J8: Miles | K8: & LOL | L8: Meeting | M8: Service | N8: Time | O8: Miles | P8: Hauling | Q8: Equip | R8: Equip | S8: Used | T8: Days | U8: Amount
A29: Totals | E29: =SUM(E9:E28) -> 0 | F29: =SUM(F9:F28) -> 0 | G29: =SUM(G9:G28) -> 0 | H29: =SUM(H9:H28) -> 0 | I29: =SUM(I9:I28) -> 0 | J29: =SUM(J9:J28) -> 0 | K29: =SUM(K9:K28) -> 0 | L29: =SUM(L9:L28) -> 0 | ... U29: =SUM(U9:U28) -> 0
A30: Agency Codes:
A31: A. USFS | B31: D. National Parks | F31: G. Other | H31: N. US Fish & Wildlife | M31: T. Timber, Private
A32: B. State DNR | B32: E. Education | F32: L. LOL | H32: O. US COE | M32: W. County
A33: C. State Parks & Hwys | B33: F. Dept. Fish & Wildlife | F33: M. BLM | H33: R. Rendezvous | M33: Z. National Scenic Trails

Sheet Project 8
F1: Backcountry Horsemen of America
A2: Project Leader | F2: Volunteer Hours Report | P2: National Scenic Trail Name
A3: Agency Contact Person
A4: Year
B6: Project Information | E6: Work Hours | H6: Work Miles | K6: Community Service | N6: Travel Time/Miles | Q6: Equipment | S6: Stock Use | U6: Donation
A7: Volunteer Name or | B7: Activity | C7: Agency | D7: District | E7: Basic | F7: Skilled | G7: Recon | H7: Wilderness | I7: Nat. Scenic | J7: Other | K7: Education | L7: Public | M7: Admin | N7: Travel | O7: Vehicle | P7: Stock | Q7: Power | R7: Heavy | S7: Stock | T7: Stock | U7: Dollar
A8: Individual Project Location | B8: Date | C8: Code | E8: Work | F8: Work | G8: Work | H8: Miles | I8: Miles | J8: Miles | K8: & LOL | L8: Meeting | M8: Service | N8: Time | O8: Miles | P8: Hauling | Q8: Equip | R8: Equip | S8: Used | T8: Days | U8: Amount
A29: Totals | E29: =SUM(E9:E28) -> 0 | F29: =SUM(F9:F28) -> 0 | G29: =SUM(G9:G28) -> 0 | H29: =SUM(H9:H28) -> 0 | I29: =SUM(I9:I28) -> 0 | J29: =SUM(J9:J28) -> 0 | K29: =SUM(K9:K28) -> 0 | L29: =SUM(L9:L28) -> 0 | ... U29: =SUM(U9:U28) -> 0
A30: Agency Codes:
A31: A. USFS | B31: D. National Parks | F31: G. Other | H31: N. US Fish & Wildlife | M31: T. Timber, Private
A32: B. State DNR | B32: E. Education | F32: L. LOL | H32: O. US COE | M32: W. County
A33: C. State Parks & Hwys | B33: F. Dept. Fish & Wildlife | F33: M. BLM | H33: R. Rendezvous | M33: Z. National Scenic Trails

Sheet Project 9
F1: Backcountry Horsemen of America
A2: Project Leader | F2: Volunteer Hours Report | P2: National Scenic Trail Name
A3: Agency Contact Person
A4: Year
B6: Project Information | E6: Work Hours | H6: Work Miles | K6: Community Service | N6: Travel Time/Miles | Q6: Equipment | S6: Stock Use | U6: Donation
A7: Volunteer Name or | B7: Activity | C7: Agency | D7: District | E7: Basic | F7: Skilled | G7: Recon | H7: Wilderness | I7: Nat. Scenic | J7: Other | K7: Education | L7: Public | M7: Admin | N7: Travel | O7: Vehicle | P7: Stock | Q7: Power | R7: Heavy | S7: Stock | T7: Stock | U7: Dollar
A8: Individual Project Location | B8: Date | C8: Code | E8: Work | F8: Work | G8: Work | H8: Miles | I8: Miles | J8: Miles | K8: & LOL | L8: Meeting | M8: Service | N8: Time | O8: Miles | P8: Hauling | Q8: Equip | R8: Equip | S8: Used | T8: Days | U8: Amount
A29: Totals | E29: =SUM(E9:E28) -> 0 | F29: =SUM(F9:F28) -> 0 | G29: =SUM(G9:G28) -> 0 | H29: =SUM(H9:H28) -> 0 | I29: =SUM(I9:I28) -> 0 | J29: =SUM(J9:J28) -> 0 | K29: =SUM(K9:K28) -> 0 | L29: =SUM(L9:L28) -> 0 | ... U29: =SUM(U9:U28) -> 0
A30: Agency Codes:
A31: A. USFS | B31: D. National Parks | F31: G. Other | H31: N. US Fish & Wildlife | M31: T. Timber, Private
A32: B. State DNR | B32: E. Education | F32: L. LOL | H32: O. US COE | M32: W. County
A33: C. State Parks & Hwys | B33: F. Dept. Fish & Wildlife | F33: M. BLM | H33: R. Rendezvous | M33: Z. National Scenic Trails

Sheet Project 10
F1: Backcountry Horsemen of America
A2: Project Leader | F2: Volunteer Hours Report | P2: National Scenic Trail Name
A3: Agency Contact Person
A4: Year
B6: Project Information | E6: Work Hours | H6: Work Miles | K6: Community Service | N6: Travel Time/Miles | Q6: Equipment | S6: Stock Use | U6: Donation
A7: Volunteer Name or | B7: Activity | C7: Agency | D7: District | E7: Basic | F7: Skilled | G7: Recon | H7: Wilderness | I7: Nat. Scenic | J7: Other | K7: Education | L7: Public | M7: Admin | N7: Travel | O7: Vehicle | P7: Stock | Q7: Power | R7: Heavy | S7: Stock | T7: Stock | U7: Dollar
A8: Individual Project Location | B8: Date | C8: Code | E8: Work | F8: Work | G8: Work | H8: Miles | I8: Miles | J8: Miles | K8: & LOL | L8: Meeting | M8: Service | N8: Time | O8: Miles | P8: Hauling | Q8: Equip | R8: Equip | S8: Used | T8: Days | U8: Amount
A29: Totals | E29: =SUM(E9:E28) -> 0 | F29: =SUM(F9:F28) -> 0 | G29: =SUM(G9:G28) -> 0 | H29: =SUM(H9:H28) -> 0 | I29: =SUM(I9:I28) -> 0 | J29: =SUM(J9:J28) -> 0 | K29: =SUM(K9:K28) -> 0 | L29: =SUM(L9:L28) -> 0 | ... U29: =SUM(U9:U28) -> 0
A30: Agency Codes:
A31: A. USFS | B31: D. National Parks | F31: G. Other | H31: N. US Fish & Wildlife | M31: T. Timber, Private
A32: B. State DNR | B32: E. Education | F32: L. LOL | H32: O. US COE | M32: W. County
A33: C. State Parks & Hwys | B33: F. Dept. Fish & Wildlife | F33: M. BLM | H33: R. Rendezvous | M33: Z. National Scenic Trails

Sheet Project 11
F1: Backcountry Horsemen of America
A2: Project Leader | F2: Volunteer Hours Report | P2: National Scenic Trail Name
A3: Agency Contact Person
A4: Year
B6: Project Information | E6: Work Hours | H6: Work Miles | K6: Community Service | N6: Travel Time/Miles | Q6: Equipment | S6: Stock Use | U6: Donation
A7: Volunteer Name or | B7: Activity | C7: Agency | D7: District | E7: Basic | F7: Skilled | G7: Recon | H7: Wilderness | I7: Nat. Scenic | J7: Other | K7: Education | L7: Public | M7: Admin | N7: Travel | O7: Vehicle | P7: Stock | Q7: Power | R7: Heavy | S7: Stock | T7: Stock | U7: Dollar
A8: Individual Project Location | B8: Date | C8: Code | E8: Work | F8: Work | G8: Work | H8: Miles | I8: Miles | J8: Miles | K8: & LOL | L8: Meeting | M8: Service | N8: Time | O8: Miles | P8: Hauling | Q8: Equip | R8: Equip | S8: Used | T8: Days | U8: Amount
A29: Totals | E29: =SUM(E9:E28) -> 0 | F29: =SUM(F9:F28) -> 0 | G29: =SUM(G9:G28) -> 0 | H29: =SUM(H9:H28) -> 0 | I29: =SUM(I9:I28) -> 0 | J29: =SUM(J9:J28) -> 0 | K29: =SUM(K9:K28) -> 0 | L29: =SUM(L9:L28) -> 0 | ... U29: =SUM(U9:U28) -> 0
A30: Agency Codes:
A31: A. USFS | B31: D. National Parks | F31: G. Other | H31: N. US Fish & Wildlife | M31: T. Timber, Private
A32: B. State DNR | B32: E. Education | F32: L. LOL | H32: O. US COE | M32: W. County
A33: C. State Parks & Hwys | B33: F. Dept. Fish & Wildlife | F33: M. BLM | H33: R. Rendezvous | M33: Z. National Scenic Trails

Sheet Project 12
F1: Backcountry Horsemen of America
A2: Project Leader | F2: Volunteer Hours Report | P2: National Scenic Trail Name
A3: Agency Contact Person
A4: Year
B6: Project Information | E6: Work Hours | H6: Work Miles | K6: Community Service | N6: Travel Time/Miles | Q6: Equipment | S6: Stock Use | U6: Donation
A7: Volunteer Name or | B7: Activity | C7: Agency | D7: District | E7: Basic | F7: Skilled | G7: Recon | H7: Wilderness | I7: Nat. Scenic | J7: Other | K7: Education | L7: Public | M7: Admin | N7: Travel | O7: Vehicle | P7: Stock | Q7: Power | R7: Heavy | S7: Stock | T7: Stock | U7: Dollar
A8: Individual Project Location | B8: Date | C8: Code | E8: Work | F8: Work | G8: Work | H8: Miles | I8: Miles | J8: Miles | K8: & LOL | L8: Meeting | M8: Service | N8: Time | O8: Miles | P8: Hauling | Q8: Equip | R8: Equip | S8: Used | T8: Days | U8: Amount
A29: Totals | E29: =SUM(E9:E28) -> 0 | F29: =SUM(F9:F28) -> 0 | G29: =SUM(G9:G28) -> 0 | H29: =SUM(H9:H28) -> 0 | I29: =SUM(I9:I28) -> 0 | J29: =SUM(J9:J28) -> 0 | K29: =SUM(K9:K28) -> 0 | L29: =SUM(L9:L28) -> 0 | ... U29: =SUM(U9:U28) -> 0
A30: Agency Codes:
A31: A. USFS | B31: D. National Parks | F31: G. Other | H31: N. US Fish & Wildlife | M31: T. Timber, Private
A32: B. State DNR | B32: E. Education | F32: L. LOL | H32: O. US COE | M32: W. County
A33: C. State Parks & Hwys | B33: F. Dept. Fish & Wildlife | F33: M. BLM | H33: R. Rendezvous | M33: Z. National Scenic Trails

Sheet Director Mtg 2
E2: 41560 | F2: 41530 | G2: 41499 | H2: 41468 | I2: 41438 | J2: 41407 | K2: 41377 | L2: 41346 | M2: 41318 | N2: 41287 | O2: 41620 | P2: 41590 | Q2: Totals
B3: President | C3: Steve | D3: Wadsworth | E3: 1 | F3: 1 | G3: 1 | H3: 1 | J3: 1 | K3: 1 | L3: 1 | M3: 1 | N3: 1 | O3: 1 | P3: 1 | Q3: =SUM(E3:P3) -> 11
B4: Vice President/State Director | C4: Rich | D4: Carl | E4: 1 | G4: 1 | H4: 1 | I4: 1 | J4: 1 | L4: 1 | N4: 1 | O4: 1 | Q4: =SUM(E4:P4) -> 8
B5: Secretary | C5: Deb | D5: Jeppensen | E5: 1 | F5: 1 | G5: 1 | I5: 1 | J5: 1 | K5: 1 | L5: 1 | M5: 1 | N5: 1 | P5: 1 | Q5: =SUM(E5:P5) -> 10
B6: Treasurer | C6: Sandy | D6: Himmel | E6: 1 | F6: 1 | G6: 1 | H6: 1 | I6: 1 | J6: 1 | K6: 1 | L6: 1 | M6: 1 | N6: 1 | O6: 1 | P6: 1 | Q6: =SUM(E6:P6) -> 12
B7: State Director | C7: Garland | D7: Crowell | E7: 1 | F7: 1 | G7: 1 | H7: 1 | I7: 1 | J7: 1 | K7: 1 | M7: 1 | N7: 1 | O7: 1 | Q7: =SUM(E7:P7) -> 10
B8: Alternate State Director | C8: Jerry | D8: Wiley | E8: 1 | G8: 1 | I8: 1 | J8: 1 | K8: 1 | L8: 1 | M8: 1 | N8: 1 | O8: 1 | P8: 1 | Q8: =SUM(E8:P8) -> 10
B9: Board Member | C9: Mike | D9: Abbott | E9: 1 | F9: 1 | G9: 1 | K9: 1 | L9: 1 | M9: 1 | N9: 1 | O9: 1 | P9: 1 | Q9: =SUM(E9:P9) -> 9
B10: Board Member | C10: Joan | D10: Crowell | E10: 1 | F10: 1 | G10: 1 | H10: 1 | I10: 1 | J10: 1 | K10: 1 | M10: 1 | N10: 1 | Q10: =SUM(E10:P10) -> 9
B11: Board Member | C11: Duane | D11: Mechels | E11: 1 | F11: 1 | G11: 1 | H11: 1 | I11: 1 | J11: 1 | K11: 1 | L11: 1 | M11: 1 | N11: 1 | O11: 1 | P11: 1 | Q11: =SUM(E11:P11) -> 12
B12: Board Member | C12: Pam | D12: Mariner | E12: 1 | F12: 1 | G12: 1 | H12: 1 | J12: 1 | K12: 1 | L12: 1 | N12: 1 | O12: 1 | P12: 1 | Q12: =SUM(E12:P12) -> 10
B13: Board Member | C13: Lisa | D13: Wiley | E13: 1 | F13: 1 | G13: 1 | I13: 1 | J13: 1 | K13: 1 | L13: 1 | M13: 1 | N13: 1 | O13: 1 | P13: 1 | Q13: =SUM(E13:P13) -> 11
C14: Mark | D14: Himmel | E14: 1 | F14: 1 | G14: 1 | H14: 1 | I14: 1 | J14: 1 | K14: 1 | L14: 1 | M14: 1 | N14: 1 | O14: 1 | P14: 1 | Q14: =SUM(E14:P14) -> 12
C15: Trina | D15: Mans | M15: 1 | N15: 1 | P15: 1 | Q15: =SUM(E15:P15) -> 3
P16: Total all hrs | Q16: =SUM(Q3:Q15) -> 127

Sheet Blank3
F1: Backcountry Horsemen of America | O1: Project Location & Description
A2: Project Leader | F2: Volunteer Hours Report
A3: Agency Contact Person | F3: [ Enter Chapter Name ]
A4: Year | F4: Revised May 2012
B6: Project Information | E6: Work Hours | H6: Work Miles | J6: Community Service | M6: Travel Time/Miles | P6: Equipment | R6: Stock Use | T6: Donation
A7: Volunteer Name or | B7: Activity | C7: Agency | D7: District | E7: Basic | F7: Skilled | G7: Recon | H7: Wilderness | I7: Other | J7: Education | K7: Public | L7: Admin | M7: Travel | N7: Vehicle | O7: Stock | P7: Power | Q7: Heavy | R7: Stock | S7: Stock | T7: Dollar
A8: Individual Project Location | B8: Date | C8: Code | E8: Work | F8: Work | G8: Work | H8: Miles | I8: Miles | J8: & LNT | K8: Meeting | L8: Service | M8: Time | N8: Miles | O8: Hauling | P8: Equip | Q8: Equip | R8: Used | S8: Days | T8: Amount
U9: =SUM(E9:G9,J9:M9) -> 0
U10: =SUM(E10:G10,J10:M10) -> 0
U11: =SUM(E11:G11,J11:M11) -> 0
U12: =SUM(E12:G12,J12:M12) -> 0
U13: =SUM(E13:G13,J13:M13) -> 0
U14: =SUM(E14:G14,J14:M14) -> 0
U15: =SUM(E15:G15,J15:M15) -> 0
U16: =SUM(E16:G16,J16:M16) -> 0
U17: =SUM(E17:G17,J17:M17) -> 0
U18: =SUM(E18:G18,J18:M18) -> 0
U19: =SUM(E19:G19,J19:M19) -> 0
U20: =SUM(E20:G20,J20:M20) -> 0
... U28: =SUM(E28:G28,J28:M28) -> 0
A29: Totals | E29: =SUM(E9:E28) -> 0 | F29: =SUM(F9:F28) -> 0 | G29: =SUM(G9:G28) -> 0 | H29: =SUM(H9:H28) -> 0 | I29: =SUM(I9:I28) -> 0 | J29: =SUM(J9:J28) -> 0 | K29: =SUM(K9:K28) -> 0 | L29: =SUM(L9:L28) -> 0 | ... T29: =SUM(T9:T28) -> 0
A30: Agency Codes:
A31: A. USFS | B31: D. National Parks | F31: G. Other | H31: N. US Fish & Wildlife | L31: T. Timber, Private
A32: B. State DNR | B32: E. Education | F32: L. LNT | H32: O. US COE | L32: W. County
A33: C. State Parks & Hwys | B33: F. Dept. Fish & Wildlife | F33: M. BLM | H33: R. Rendezvous

Sheet Blank4
F1: Backcountry Horsemen of America | O1: Project Location & Description
A2: Project Leader | F2: Volunteer Hours Report
A3: Agency Contact Person | F3: [ Enter Chapter Name ]
A4: Year | F4: Revised May 2012
B6: Project Information | E6: Work Hours | H6: Work Miles | J6: Community Service | M6: Travel Time/Miles | P6: Equipment | R6: Stock Use | T6: Donation
A7: Volunteer Name or | B7: Activity | C7: Agency | D7: District | E7: Basic | F7: Skilled | G7: Recon | H7: Wilderness | I7: Other | J7: Education | K7: Public | L7: Admin | M7: Travel | N7: Vehicle | O7: Stock | P7: Power | Q7: Heavy | R7: Stock | S7: Stock | T7: Dollar
A8: Individual Project Location | B8: Date | C8: Code | E8: Work | F8: Work | G8: Work | H8: Miles | I8: Miles | J8: & LNT | K8: Meeting | L8: Service | M8: Time | N8: Miles | O8: Hauling | P8: Equip | Q8: Equip | R8: Used | S8: Days | T8: Amount
U9: =SUM(E9:G9,J9:M9) -> 0
U10: =SUM(E10:G10,J10:M10) -> 0
U11: =SUM(E11:G11,J11:M11) -> 0
U12: =SUM(E12:G12,J12:M12) -> 0
U13: =SUM(E13:G13,J13:M13) -> 0
U14: =SUM(E14:G14,J14:M14) -> 0
U15: =SUM(E15:G15,J15:M15) -> 0
U16: =SUM(E16:G16,J16:M16) -> 0
U17: =SUM(E17:G17,J17:M17) -> 0
U18: =SUM(E18:G18,J18:M18) -> 0
U19: =SUM(E19:G19,J19:M19) -> 0
U20: =SUM(E20:G20,J20:M20) -> 0
... U28: =SUM(E28:G28,J28:M28) -> 0
A29: Totals | E29: =SUM(E9:E28) -> 0 | F29: =SUM(F9:F28) -> 0 | G29: =SUM(G9:G28) -> 0 | H29: =SUM(H9:H28) -> 0 | I29: =SUM(I9:I28) -> 0 | J29: =SUM(J9:J28) -> 0 | K29: =SUM(K9:K28) -> 0 | L29: =SUM(L9:L28) -> 0 | ... T29: =SUM(T9:T28) -> 0
A30: Agency Codes:
A31: A. USFS | B31: D. National Parks | F31: G. Other | H31: N. US Fish & Wildlife | L31: T. Timber, Private
A32: B. State DNR | B32: E. Education | F32: L. LNT | H32: O. US COE | L32: W. County
A33: C. State Parks & Hwys | B33: F. Dept. Fish & Wildlife | F33: M. BLM | H33: R. Rendezvous

Sheet Blank5
F1: Backcountry Horsemen of America | O1: Project Location & Description
A2: Project Leader | F2: Volunteer Hours Report
A3: Agency Contact Person | F3: [ Enter Chapter Name ]
A4: Year | F4: Revised May 2012
B6: Project Information | E6: Work Hours | H6: Work Miles | J6: Community Service | M6: Travel Time/Miles | P6: Equipment | R6: Stock Use | T6: Donation
A7: Volunteer Name or | B7: Activity | C7: Agency | D7: District | E7: Basic | F7: Skilled | G7: Recon | H7: Wilderness | I7: Other | J7: Education | K7: Public | L7: Admin | M7: Travel | N7: Vehicle | O7: Stock | P7: Power | Q7: Heavy | R7: Stock | S7: Stock | T7: Dollar
A8: Individual Project Location | B8: Date | C8: Code | E8: Work | F8: Work | G8: Work | H8: Miles | I8: Miles | J8: & LNT | K8: Meeting | L8: Service | M8: Time | N8: Miles | O8: Hauling | P8: Equip | Q8: Equip | R8: Used | S8: Days | T8: Amount
U9: =SUM(E9:G9,J9:M9) -> 0
U10: =SUM(E10:G10,J10:M10) -> 0
U11: =SUM(E11:G11,J11:M11) -> 0
U12: =SUM(E12:G12,J12:M12) -> 0
U13: =SUM(E13:G13,J13:M13) -> 0
U14: =SUM(E14:G14,J14:M14) -> 0
U15: =SUM(E15:G15,J15:M15) -> 0
U16: =SUM(E16:G16,J16:M16) -> 0
U17: =SUM(E17:G17,J17:M17) -> 0
U18: =SUM(E18:G18,J18:M18) -> 0
U19: =SUM(E19:G19,J19:M19) -> 0
U20: =SUM(E20:G20,J20:M20) -> 0
... U28: =SUM(E28:G28,J28:M28) -> 0
A29: Totals | E29: =SUM(E9:E28) -> 0 | F29: =SUM(F9:F28) -> 0 | G29: =SUM(G9:G28) -> 0 | H29: =SUM(H9:H28) -> 0 | I29: =SUM(I9:I28) -> 0 | J29: =SUM(J9:J28) -> 0 | K29: =SUM(K9:K28) -> 0 | L29: =SUM(L9:L28) -> 0 | ... T29: =SUM(T9:T28) -> 0
A30: Agency Codes:
A31: A. USFS | B31: D. National Parks | F31: G. Other | H31: N. US Fish & Wildlife | L31: T. Timber, Private
A32: B. State DNR | B32: E. Education | F32: L. LNT | H32: O. US COE | L32: W. County
A33: C. State Parks & Hwys | B33: F. Dept. Fish & Wildlife | F33: M. BLM | H33: R. Rendezvous

Sheet PROJECT TEMPLATE
F1: Backcountry Horsemen of America
A2: Project Leader | F2: Volunteer Hours Report | P2: National Scenic Trail Name
A3: Agency Contact Person
A4: Year
B6: Project Information | E6: Work Hours | H6: Work Miles | K6: Community Service | N6: Travel Time/Miles | Q6: Equipment | S6: Stock Use | U6: Donation
A7: Volunteer Name or | B7: Activity | C7: Agency | D7: District | E7: Basic | F7: Skilled | G7: Recon | H7: Wilderness | I7: Nat. Scenic | J7: Other | K7: Education | L7: Public | M7: Admin | N7: Travel | O7: Vehicle | P7: Stock | Q7: Power | R7: Heavy | S7: Stock | T7: Stock | U7: Dollar
A8: Individual Project Location | B8: Date | C8: Code | E8: Work | F8: Work | G8: Work | H8: Miles | I8: Miles | J8: Miles | K8: & LOL | L8: Meeting | M8: Service | N8: Time | O8: Miles | P8: Hauling | Q8: Equip | R8: Equip | S8: Used | T8: Days | U8: Amount
A29: Totals | E29: =SUM(E9:E28) -> 0 | F29: =SUM(F9:F28) -> 0 | G29: =SUM(G9:G28) -> 0 | H29: =SUM(H9:H28) -> 0 | I29: =SUM(I9:I28) -> 0 | J29: =SUM(J9:J28) -> 0 | K29: =SUM(K9:K28) -> 0 | L29: =SUM(L9:L28) -> 0 | ... U29: =SUM(U9:U28) -> 0
A30: Agency Codes:
A31: A. USFS | B31: D. National Parks | F31: G. Other | H31: N. US Fish & Wildlife | M31: T. Timber, Private
A32: B. State DNR | B32: E. Education | F32: L. LNT | H32: O. US COE | M32: W. County
A33: C. State Parks & Hwys | B33: F. Dept. Fish & Wildlife | F33: M. BLM | H33: R. Rendezvous | M33: Z. National Scenic Trails
